BEGIN:VCALENDAR
VERSION:2.0
PRODID:-//Gun Calendars - ECPv6.6.2//NONSGML v1.0//EN
CALSCALE:GREGORIAN
METHOD:PUBLISH
X-ORIGINAL-URL:https://guncalendars.com
X-WR-CALDESC:Events for Gun Calendars
REFRESH-INTERVAL;VALUE=DURATION:PT1H
X-Robots-Tag:noindex
X-PUBLISHED-TTL:PT1H
BEGIN:VTIMEZONE
TZID:UTC
BEGIN:STANDARD
TZOFFSETFROM:+0000
TZOFFSETTO:+0000
TZNAME:UTC
DTSTART:20180101T000000
END:STANDARD
END:VTIMEZONE
BEGIN:VEVENT
DTSTART;TZID=UTC:20180508T000000
DTEND;TZID=UTC:20180508T000000
DTSTAMP:20260422T035417
CREATED:20180529T103338Z
LAST-MODIFIED:20180529T103338Z
UID:4904-1525737600-1525737600@guncalendars.com
SUMMARY:VE (Victory in Europe) Day
DESCRIPTION:anniversary of the Allies’ victory in Europe during World War II on May 8\, 1945
URL:https://guncalendars.com/event/ve-victory-in-europe-day-3/
CATEGORIES:Military Date
END:VEVENT
BEGIN:VEVENT
DTSTART;TZID=UTC:20180508T000000
DTEND;TZID=UTC:20180508T000000
DTSTAMP:20260422T035417
CREATED:20180529T103556Z
LAST-MODIFIED:20180529T103556Z
UID:5416-1525737600-1525737600@guncalendars.com
SUMMARY:V-E Day (1945)
DESCRIPTION:Victory in Europe Day\nV-E Day May 8\, 1945\ncelebrated on May 8th \nToday marks the formal acceptance of Nazi Germany’s unconditional surrender\nThis marked the end of World War II in Europe. \n#ThankAVet\n#NeverForget #TeachHistoryToKids#ThoseWhoForgetItWillReliveIt\n#RecordYourGrandparentsStorysToday \n\nhttps://www.instagram.com/p/BFMHGPaKhS3/?taken-by=gunwebsites
URL:https://guncalendars.com/event/v-e-day-1945-3/
CATEGORIES:Military Date
ATTACH;FMTTYPE=image/jpeg:https://guncalendars.com/wp-content/uploads/2017/08/IMG_20160509_070614.jpg
END:VEVENT
END:VCALENDAR