BEGIN:VCALENDAR
VERSION:2.0
PRODID:-//Gun Calendars - ECPv6.6.2//NONSGML v1.0//EN
CALSCALE:GREGORIAN
METHOD:PUBLISH
X-ORIGINAL-URL:https://guncalendars.com
X-WR-CALDESC:Events for Gun Calendars
REFRESH-INTERVAL;VALUE=DURATION:PT1H
X-Robots-Tag:noindex
X-PUBLISHED-TTL:PT1H
BEGIN:VTIMEZONE
TZID:UTC
BEGIN:STANDARD
TZOFFSETFROM:+0000
TZOFFSETTO:+0000
TZNAME:UTC
DTSTART:20210101T000000
END:STANDARD
END:VTIMEZONE
BEGIN:VEVENT
DTSTART;VALUE=DATE:20210420
DTEND;VALUE=DATE:20210421
DTSTAMP:20260425T041738
CREATED:20200406T041942Z
LAST-MODIFIED:20200406T042016Z
UID:8219-1618876800-1618963199@guncalendars.com
SUMMARY:Wisconsin ends prohibition on Open Carry
DESCRIPTION:Wisconsin ends prohibition on Open Carry
URL:https://guncalendars.com/event/wisconsin-ends-prohibition-on-open-carry-2/
CATEGORIES:Firearms Laws
ATTACH;FMTTYPE=image/png:https://guncalendars.com/wp-content/uploads/2020/04/State-Icons-Wisconsin.png
END:VEVENT
END:VCALENDAR