BEGIN:VCALENDAR
VERSION:2.0
PRODID:-//Gun Calendars - ECPv6.6.2//NONSGML v1.0//EN
CALSCALE:GREGORIAN
METHOD:PUBLISH
X-WR-CALNAME:Gun Calendars
X-ORIGINAL-URL:https://guncalendars.com
X-WR-CALDESC:Events for Gun Calendars
REFRESH-INTERVAL;VALUE=DURATION:PT1H
X-Robots-Tag:noindex
X-PUBLISHED-TTL:PT1H
BEGIN:VTIMEZONE
TZID:UTC
BEGIN:STANDARD
TZOFFSETFROM:+0000
TZOFFSETTO:+0000
TZNAME:UTC
DTSTART:20210101T000000
END:STANDARD
END:VTIMEZONE
BEGIN:VEVENT
DTSTART;VALUE=DATE:20210606
DTEND;VALUE=DATE:20210607
DTSTAMP:20260424T142920
CREATED:20190602T140429Z
LAST-MODIFIED:20190602T141247Z
UID:6808-1622937600-1623023999@guncalendars.com
SUMMARY:Rollin White (Born)
DESCRIPTION:aRollin White \nJune 6\, 1817 – March 22\, 1892
URL:https://guncalendars.com/event/rollin-white-3/
CATEGORIES:Firearms Inventor
ATTACH;FMTTYPE=image/jpeg:https://guncalendars.com/wp-content/uploads/2018/07/Gun-Inventors-Hearts-05-Rollin-White.jpg
END:VEVENT
BEGIN:VEVENT
DTSTART;VALUE=DATE:20210608
DTEND;VALUE=DATE:20210609
DTSTAMP:20260424T142920
CREATED:20190602T153026Z
LAST-MODIFIED:20190602T155428Z
UID:6834-1623110400-1623196799@guncalendars.com
SUMMARY:Walter Hunt - Died
DESCRIPTION:Walter Hunt – Died (63) \nJuly 29\, 1796 – June 8\, 1859 \n\n1848 Volcanic\nFiring cock repeating gun Patent 6663\nlockstitch sewing machine (1833)\nsafety pin (1849)\n\nb
URL:https://guncalendars.com/event/walter-hunt-died-3/
CATEGORIES:Firearms Inventor
ATTACH;FMTTYPE=image/jpeg:https://guncalendars.com/wp-content/uploads/2018/07/Gun-Inventors-Hearts-02-Walter-Hunt-Sm.jpg
END:VEVENT
BEGIN:VEVENT
DTSTART;VALUE=DATE:20210608
DTEND;VALUE=DATE:20210609
DTSTAMP:20260424T142920
CREATED:20190602T160329Z
LAST-MODIFIED:20190602T160659Z
UID:6841-1623110400-1623196799@guncalendars.com
SUMMARY:Benjamin Tyler Henry (died)
DESCRIPTION:Benjamin Tyler Henry\nMarch 22\, 1821 – June 8\, 1898
URL:https://guncalendars.com/event/benjamin-tyler-henry-died-3/
CATEGORIES:Firearms Inventor
ATTACH;FMTTYPE=image/png:https://guncalendars.com/wp-content/uploads/2018/07/Gun-Inventors-Hearts-06-Benjamin-Henry.png
END:VEVENT
END:VCALENDAR