BEGIN:VCALENDAR
VERSION:2.0
PRODID:-//Gun Calendars - ECPv6.6.2//NONSGML v1.0//EN
CALSCALE:GREGORIAN
METHOD:PUBLISH
X-WR-CALNAME:Gun Calendars
X-ORIGINAL-URL:https://guncalendars.com
X-WR-CALDESC:Events for Gun Calendars
REFRESH-INTERVAL;VALUE=DURATION:PT1H
X-Robots-Tag:noindex
X-PUBLISHED-TTL:PT1H
BEGIN:VTIMEZONE
TZID:UTC
BEGIN:STANDARD
TZOFFSETFROM:+0000
TZOFFSETTO:+0000
TZNAME:UTC
DTSTART:20240101T000000
END:STANDARD
END:VTIMEZONE
BEGIN:VEVENT
DTSTART;VALUE=DATE:20240506
DTEND;VALUE=DATE:20240507
DTSTAMP:20260421T104317
CREATED:20190409T030126Z
LAST-MODIFIED:20220506T053433Z
UID:6703-1714953600-1715039999@guncalendars.com
SUMMARY:Sergei Gavrilovich Simonov - Died
DESCRIPTION:Sergei Gavrilovich Simonov – Died\nApril 9\, 1894 – May 6\, 1986 \nSergei Gavrilovich Simonov\, Russia \n1945 – SKS
URL:https://guncalendars.com/event/sergei-gavrilovich-simonov-born-4-3/
CATEGORIES:Firearms Inventor
ATTACH;FMTTYPE=image/jpeg:https://guncalendars.com/wp-content/uploads/2018/07/Gun-Inventors-Diamonds-09-Sergei-Simonov.jpg
END:VEVENT
END:VCALENDAR