BEGIN:VCALENDAR
VERSION:2.0
PRODID:-//Gun Calendars - ECPv6.6.2//NONSGML v1.0//EN
CALSCALE:GREGORIAN
METHOD:PUBLISH
X-WR-CALNAME:Gun Calendars
X-ORIGINAL-URL:https://guncalendars.com
X-WR-CALDESC:Events for Gun Calendars
REFRESH-INTERVAL;VALUE=DURATION:PT1H
X-Robots-Tag:noindex
X-PUBLISHED-TTL:PT1H
BEGIN:VTIMEZONE
TZID:UTC
BEGIN:STANDARD
TZOFFSETFROM:+0000
TZOFFSETTO:+0000
TZNAME:UTC
DTSTART:20180101T000000
END:STANDARD
END:VTIMEZONE
BEGIN:VEVENT
DTSTART;TZID=UTC:20180725T080000
DTEND;TZID=UTC:20180728T170000
DTSTAMP:20260419T215835
CREATED:20180619T041110Z
LAST-MODIFIED:20180619T041120Z
UID:5971-1532505600-1532797200@guncalendars.com
SUMMARY:Triggrcon 2018
DESCRIPTION:Triggrcon is a 4 day event in Bellevue\, Washington. \nIt will include a range day and industry day open to media and industry attendees and the final 2 days for enthusiasts. Triggrcon will showcase the newest\, most innovative companies and products in the tactical firearms industry. The conference will be capped in exhibitors and attendees to maintain an intimate and exclusive environment. \ngunchannels.com/event/211/triggrcon
URL:https://guncalendars.com/event/triggrcon-2018/
CATEGORIES:Shooting Event
ATTACH;FMTTYPE=image/png:https://guncalendars.com/wp-content/uploads/2018/06/section_one_part_logo_07.png
END:VEVENT
END:VCALENDAR