BEGIN:VCALENDAR
VERSION:2.0
PRODID:-//Gun Calendars - ECPv6.6.2//NONSGML v1.0//EN
CALSCALE:GREGORIAN
METHOD:PUBLISH
X-ORIGINAL-URL:https://guncalendars.com
X-WR-CALDESC:Events for Gun Calendars
REFRESH-INTERVAL;VALUE=DURATION:PT1H
X-Robots-Tag:noindex
X-PUBLISHED-TTL:PT1H
BEGIN:VTIMEZONE
TZID:UTC
BEGIN:STANDARD
TZOFFSETFROM:+0000
TZOFFSETTO:+0000
TZNAME:UTC
DTSTART:20190101T000000
END:STANDARD
END:VTIMEZONE
BEGIN:VEVENT
DTSTART;TZID=UTC:20190517T080000
DTEND;TZID=UTC:20190519T170000
DTSTAMP:20260421T232045
CREATED:20180619T054541Z
LAST-MODIFIED:20180619T054541Z
UID:6002-1558080000-1558285200@guncalendars.com
SUMMARY:USCCA 5th Annual Concealed Carry Expo
DESCRIPTION:80\,000+ square feet of vendors\, live demonstrations\, interviews with experts and dynamic concealed carry training opportunities under one roof. Open to USCCA member and the public. Largest selection of concealed carry and home defense vendors. I assumed the 9 to 5 times\, as the date approaches go to USCCAExpo.com for more details. \n\n\n5/17/19 at 7:00 AM – 5/19/19 at 3:00 PM\n\n\nWhere – PITTSBURGH\, PA\n\n\nHost – USCCA\n\n\ngunchannels.com/event/213/uscca-5th-annual-concealed-carry-expo
URL:https://guncalendars.com/event/uscca-5th-annual-concealed-carry-expo/
CATEGORIES:Firearms Media Event,Gun Industry
ATTACH;FMTTYPE=image/png:https://guncalendars.com/wp-content/uploads/2018/06/USCCA-logo-2017.png
END:VEVENT
END:VCALENDAR