BEGIN:VCALENDAR
VERSION:2.0
PRODID:-//Gun Calendars - ECPv6.6.2//NONSGML v1.0//EN
CALSCALE:GREGORIAN
METHOD:PUBLISH
X-ORIGINAL-URL:https://guncalendars.com
X-WR-CALDESC:Events for Gun Calendars
REFRESH-INTERVAL;VALUE=DURATION:PT1H
X-Robots-Tag:noindex
X-PUBLISHED-TTL:PT1H
BEGIN:VTIMEZONE
TZID:UTC
BEGIN:STANDARD
TZOFFSETFROM:+0000
TZOFFSETTO:+0000
TZNAME:UTC
DTSTART:20170101T000000
END:STANDARD
END:VTIMEZONE
BEGIN:VEVENT
DTSTART;TZID=UTC:20171013T000000
DTEND;TZID=UTC:20171013T000000
DTSTAMP:20260424T114419
CREATED:20180529T103352Z
LAST-MODIFIED:20180529T103352Z
UID:4970-1507852800-1507852800@guncalendars.com
SUMMARY:Navy Birthday
DESCRIPTION:
URL:https://guncalendars.com/event/navy-birthday/
CATEGORIES:Military Date
END:VEVENT
END:VCALENDAR