BEGIN:VCALENDAR
VERSION:2.0
PRODID:-//Gun Calendars - ECPv6.6.2//NONSGML v1.0//EN
CALSCALE:GREGORIAN
METHOD:PUBLISH
X-ORIGINAL-URL:https://guncalendars.com
X-WR-CALDESC:Events for Gun Calendars
REFRESH-INTERVAL;VALUE=DURATION:PT1H
X-Robots-Tag:noindex
X-PUBLISHED-TTL:PT1H
BEGIN:VTIMEZONE
TZID:UTC
BEGIN:STANDARD
TZOFFSETFROM:+0000
TZOFFSETTO:+0000
TZNAME:UTC
DTSTART:20210101T000000
END:STANDARD
END:VTIMEZONE
BEGIN:VEVENT
DTSTART;VALUE=DATE:20210602
DTEND;VALUE=DATE:20210603
DTSTAMP:20260424T164252
CREATED:19240602T124746Z
LAST-MODIFIED:20200529T125459Z
UID:8399-1622592000-1622678399@guncalendars.com
SUMMARY:Citizenship to American Indians 1924
DESCRIPTION:Indian Citizenship Act of 1924\nJune 2\, 1924 \nIndians occupied an unusual status under federal law.\nSome had acquired citizenship by marrying white men. Others received citizenship through military service\, by receipt of allotments\, or through special treaties or special statutes. But many were still not citizens\, and they were barred from the ordinary processes of naturalization open to foreigners. Congress took what some saw as the final step on June 2\, 1924 and granted citizenship to all Native Americans born in the United States \n \nIndian participation in World War I accelerated the granting of citizenship\nto all Indians \n“BE IT ENACTED by the Senate and house of Representatives of the United States of America in\nCongress assembled\, That all non citizen Indians born within the territorial limits of the United\nStates be\, and they are hereby\, declared to be citizens of the United States: Provided That the\ngranting of such citizenship shall not in any manner impair or otherwise affect the right of any\nIndian to tribal or other property. (Approved June 2\, 1924)” \nArticle obtained online from\nhttp://www.nebraskastudies.org/0700/frameset_reset.html?http://www.nebraskastudies.org/0700/sto\nries/0701_0146.html
URL:https://guncalendars.com/event/citizenship-to-american-indians-1924-2/
CATEGORIES:Anniversary
ATTACH;FMTTYPE=image/jpeg:https://guncalendars.com/wp-content/uploads/2020/05/indian-act-1924.jpg
END:VEVENT
BEGIN:VEVENT
DTSTART;VALUE=DATE:20210625
DTEND;VALUE=DATE:20210627
DTSTAMP:20260424T164252
CREATED:18760625T134322Z
LAST-MODIFIED:20200529T132751Z
UID:8425-1624579200-1624751999@guncalendars.com
SUMMARY:Battle of Little Big Horn 1876
DESCRIPTION:June 25\, 1876 – June 26\, 1876 \n\nCuster’s Last Stand\n in southeastern Montana Territory\nLt Colonel George Custer and the 7th Cavalry are wiped out by Sioux and Cheyenne Indians at the Battle of Little Big Horn\n31 officers\, 586 soldiers\, 33 Indian scouts and 20 civilian employees\nJune 26 = 262 were dead\, 68 were wounded and six later died of their wounds\noverwhelming victory for the Lakota\, Northern Cheyenne\, and Arapaho\, who were led by Crazy Horse & others
URL:https://guncalendars.com/event/battle-of-little-big-horn-1876-2/
CATEGORIES:Military Date
ATTACH;FMTTYPE=image/jpeg:https://guncalendars.com/wp-content/uploads/2020/05/Battle-of-the-Little-Bighorn-1878.jpg
END:VEVENT
END:VCALENDAR