BEGIN:VCALENDAR
VERSION:2.0
PRODID:-//Gun Calendars - ECPv6.6.2//NONSGML v1.0//EN
CALSCALE:GREGORIAN
METHOD:PUBLISH
X-ORIGINAL-URL:https://guncalendars.com
X-WR-CALDESC:Events for Gun Calendars
REFRESH-INTERVAL;VALUE=DURATION:PT1H
X-Robots-Tag:noindex
X-PUBLISHED-TTL:PT1H
BEGIN:VTIMEZONE
TZID:UTC
BEGIN:STANDARD
TZOFFSETFROM:+0000
TZOFFSETTO:+0000
TZNAME:UTC
DTSTART:20180101T000000
END:STANDARD
END:VTIMEZONE
BEGIN:VEVENT
DTSTART;TZID=UTC:20180727T000000
DTEND;TZID=UTC:20180727T000000
DTSTAMP:20260420T054936
CREATED:20180529T103346Z
LAST-MODIFIED:20180705T214023Z
UID:4939-1532649600-1532649600@guncalendars.com
SUMMARY:Korean War Veterans Armistice Day
DESCRIPTION:Korean War Veterans Armistice Day (1953)
URL:https://guncalendars.com/event/korean-war-veterans-armistice-day-3/
CATEGORIES:Military Date
ATTACH;FMTTYPE=image/jpeg:https://guncalendars.com/wp-content/uploads/2018/05/korean-war-ends.jpg
END:VEVENT
END:VCALENDAR