BEGIN:VCALENDAR
VERSION:2.0
PRODID:-//Gun Calendars - ECPv6.6.2//NONSGML v1.0//EN
CALSCALE:GREGORIAN
METHOD:PUBLISH
X-ORIGINAL-URL:https://guncalendars.com
X-WR-CALDESC:Events for Gun Calendars
REFRESH-INTERVAL;VALUE=DURATION:PT1H
X-Robots-Tag:noindex
X-PUBLISHED-TTL:PT1H
BEGIN:VTIMEZONE
TZID:UTC
BEGIN:STANDARD
TZOFFSETFROM:+0000
TZOFFSETTO:+0000
TZNAME:UTC
DTSTART:20200101T000000
END:STANDARD
END:VTIMEZONE
BEGIN:VEVENT
DTSTART;VALUE=DATE:20200701
DTEND;VALUE=DATE:20200702
DTSTAMP:20260422T140802
CREATED:20200307T191556Z
LAST-MODIFIED:20200307T200124Z
UID:8079-1593561600-1593647999@guncalendars.com
SUMMARY:Wyoming Hunting with a Suppressor decriminalized in 2013
DESCRIPTION:Wyoming lifted restrictions on suppressors for hunting \nJuly 1\, 2013 \nWyoming became the 28th state to stop prohibiting Suppressors for Hunting
URL:https://guncalendars.com/event/alabama-with-a-suppressor-decriminalized-in-2014-3-4-4-8-4-3/
CATEGORIES:Firearms Laws
ATTACH;FMTTYPE=image/jpeg:https://guncalendars.com/wp-content/uploads/2020/03/Wyoming.jpg
END:VEVENT
BEGIN:VEVENT
DTSTART;VALUE=DATE:20200701
DTEND;VALUE=DATE:20200702
DTSTAMP:20260422T140802
CREATED:20200307T191556Z
LAST-MODIFIED:20200307T192629Z
UID:7985-1593561600-1593647999@guncalendars.com
SUMMARY:Indiana Hunting with a Suppressor decriminalized in 2013
DESCRIPTION:Indiana lifted restrictions on suppressors for hunting \nJuly 1\, 2013
URL:https://guncalendars.com/event/alabama-with-a-suppressor-decriminalized-in-2014-3-4-3/
CATEGORIES:Firearms Laws
ATTACH;FMTTYPE=image/jpeg:https://guncalendars.com/wp-content/uploads/2020/03/Indiana.jpg
END:VEVENT
BEGIN:VEVENT
DTSTART;VALUE=DATE:20200701
DTEND;VALUE=DATE:20200702
DTSTAMP:20260422T140802
CREATED:20200307T191556Z
LAST-MODIFIED:20200307T192944Z
UID:7993-1593561600-1593647999@guncalendars.com
SUMMARY:Kansas Hunting with a Suppressor decriminalized in 2014
DESCRIPTION:Kansas lifted restrictions on suppressors for hunting \nJuly 1\, 2014
URL:https://guncalendars.com/event/alabama-with-a-suppressor-decriminalized-in-2014-3-5-3/
CATEGORIES:Firearms Laws
ATTACH;FMTTYPE=image/jpeg:https://guncalendars.com/wp-content/uploads/2020/03/Kansas.jpg
END:VEVENT
BEGIN:VEVENT
DTSTART;VALUE=DATE:20200701
DTEND;VALUE=DATE:20200702
DTSTAMP:20260422T140802
CREATED:20200307T191556Z
LAST-MODIFIED:20200307T195417Z
UID:8063-1593561600-1593647999@guncalendars.com
SUMMARY:Tennessee Hunting with a Suppressor decriminalized in 2017
DESCRIPTION:Tennessee lifted restrictions on suppressors for hunting \nJuly 1\, 2017
URL:https://guncalendars.com/event/alabama-with-a-suppressor-decriminalized-in-2014-3-4-4-10-4-3/
CATEGORIES:Firearms Laws
ATTACH;FMTTYPE=image/jpeg:https://guncalendars.com/wp-content/uploads/2020/03/Tennessee.jpg
END:VEVENT
BEGIN:VEVENT
DTSTART;VALUE=DATE:20200701
DTEND;VALUE=DATE:20200702
DTSTAMP:20260422T140802
CREATED:20200307T191556Z
LAST-MODIFIED:20200307T192228Z
UID:7975-1593561600-1593647999@guncalendars.com
SUMMARY:Georgia Hunting with a Suppressor decriminalized in 2014
DESCRIPTION:Georgia lifted restrictions on suppressors for hunting \nJuly 1\, 2014
URL:https://guncalendars.com/event/alabama-with-a-suppressor-decriminalized-in-2014-3-3/
CATEGORIES:Firearms Laws
ATTACH;FMTTYPE=image/jpeg:https://guncalendars.com/wp-content/uploads/2020/03/Georgia.jpg
END:VEVENT
END:VCALENDAR