BEGIN:VCALENDAR
VERSION:2.0
PRODID:-//Gun Calendars - ECPv6.6.2//NONSGML v1.0//EN
CALSCALE:GREGORIAN
METHOD:PUBLISH
X-WR-CALNAME:Gun Calendars
X-ORIGINAL-URL:https://guncalendars.com
X-WR-CALDESC:Events for Gun Calendars
REFRESH-INTERVAL;VALUE=DURATION:PT1H
X-Robots-Tag:noindex
X-PUBLISHED-TTL:PT1H
BEGIN:VTIMEZONE
TZID:UTC
BEGIN:STANDARD
TZOFFSETFROM:+0000
TZOFFSETTO:+0000
TZNAME:UTC
DTSTART:20190101T000000
END:STANDARD
END:VTIMEZONE
BEGIN:VEVENT
DTSTART;TZID=UTC:20190426T000000
DTEND;TZID=UTC:20190426T000000
DTSTAMP:20260420T060150
CREATED:20180529T103434Z
LAST-MODIFIED:20180529T103434Z
UID:5130-1556236800-1556236800@guncalendars.com
SUMMARY:Gun Possession Near Schools Not Restricted (1995)
DESCRIPTION:April 26\, 1995The U.S. Supreme Court overturned a federal law banning gun possession near schools on the grounds that it was beyond the scope of congress power to regulate interstate commerce. \nWe win and loose battles.. let’s resolve to win the war !! #GunChannels\n#GunWebsites #GunLaws #GunLife#LearnGunHistory #SmarterEveryDay \n\nhttps://www.instagram.com/p/BTXVKqQAdmc/?taken-by=gunwebsites
URL:https://guncalendars.com/event/gun-possession-near-schools-not-restricted-1995-3/
CATEGORIES:Firearms Laws
ATTACH;FMTTYPE=image/jpeg:https://guncalendars.com/wp-content/uploads/2017/08/IMG_20170426_150015_229.jpg
END:VEVENT
END:VCALENDAR