BEGIN:VCALENDAR
VERSION:2.0
PRODID:-//Gun Calendars - ECPv6.6.2//NONSGML v1.0//EN
CALSCALE:GREGORIAN
METHOD:PUBLISH
X-ORIGINAL-URL:https://guncalendars.com
X-WR-CALDESC:Events for Gun Calendars
REFRESH-INTERVAL;VALUE=DURATION:PT1H
X-Robots-Tag:noindex
X-PUBLISHED-TTL:PT1H
BEGIN:VTIMEZONE
TZID:UTC
BEGIN:STANDARD
TZOFFSETFROM:+0000
TZOFFSETTO:+0000
TZNAME:UTC
DTSTART:20190101T000000
END:STANDARD
END:VTIMEZONE
BEGIN:VEVENT
DTSTART;TZID=UTC:20190227T000000
DTEND;TZID=UTC:20190227T000000
DTSTAMP:20260419T163600
CREATED:20180529T103612Z
LAST-MODIFIED:20180529T103612Z
UID:5470-1551225600-1551225600@guncalendars.com
SUMMARY:England's Handgun Ban (1997)
DESCRIPTION:Feb. 27\, 1997\nNever here \nhttps://www.instagram.com/p/zm2js7KhTU/?taken-by=gunwebsites
URL:https://guncalendars.com/event/englands-handgun-ban-1997-4/
CATEGORIES:Firearms Laws|Gun Control
ATTACH;FMTTYPE=image/jpeg:https://guncalendars.com/wp-content/uploads/2017/08/1425045369747.jpg
END:VEVENT
END:VCALENDAR