BEGIN:VCALENDAR
VERSION:2.0
PRODID:-//Gun Calendars - ECPv6.6.2//NONSGML v1.0//EN
CALSCALE:GREGORIAN
METHOD:PUBLISH
X-WR-CALNAME:Gun Calendars
X-ORIGINAL-URL:https://guncalendars.com
X-WR-CALDESC:Events for Gun Calendars
REFRESH-INTERVAL;VALUE=DURATION:PT1H
X-Robots-Tag:noindex
X-PUBLISHED-TTL:PT1H
BEGIN:VTIMEZONE
TZID:UTC
BEGIN:STANDARD
TZOFFSETFROM:+0000
TZOFFSETTO:+0000
TZNAME:UTC
DTSTART:20190101T000000
END:STANDARD
END:VTIMEZONE
BEGIN:VEVENT
DTSTART;TZID=UTC:20190914T000000
DTEND;TZID=UTC:20190914T000000
DTSTAMP:20260421T192200
CREATED:20180529T103541Z
LAST-MODIFIED:20180529T103541Z
UID:5369-1568419200-1568419200@guncalendars.com
SUMMARY:Missouri Constitutional Carry (2016)
DESCRIPTION:Constitutional Carry in Missouri SEPTEMBER 14\, 2016 \n\nhttps://www.instagram.com/p/BKXPI_XAb2M/?taken-by=gunwebsites \n 
URL:https://guncalendars.com/event/missouri-constitutional-carry-2016-4/
CATEGORIES:Firearms Laws
END:VEVENT
END:VCALENDAR