BEGIN:VCALENDAR
VERSION:2.0
PRODID:-//Gun Calendars - ECPv6.6.2//NONSGML v1.0//EN
CALSCALE:GREGORIAN
METHOD:PUBLISH
X-ORIGINAL-URL:https://guncalendars.com
X-WR-CALDESC:Events for Gun Calendars
REFRESH-INTERVAL;VALUE=DURATION:PT1H
X-Robots-Tag:noindex
X-PUBLISHED-TTL:PT1H
BEGIN:VTIMEZONE
TZID:UTC
BEGIN:STANDARD
TZOFFSETFROM:+0000
TZOFFSETTO:+0000
TZNAME:UTC
DTSTART:20200101T000000
END:STANDARD
END:VTIMEZONE
BEGIN:VEVENT
DTSTART;VALUE=DATE:20200429
DTEND;VALUE=DATE:20200430
DTSTAMP:20260420T220122
CREATED:20180529T103433Z
LAST-MODIFIED:20191226T191412Z
UID:7641-1588118400-1588204799@guncalendars.com
SUMMARY:L.A. Riots (1992)
DESCRIPTION:L.A. RiotsApril 29 – May 4th\, 1992 \nOver six days\, widespread looting\, assault\, arson\, and killings occurred in Los Angeles\, CA\n#Riot\n#LARiots\n#rodneyking\n#GunHistory \n\nhttps://www.instagram.com/p/BTgEybzgB-H/?taken-by=gunwebsites
URL:https://guncalendars.com/event/l-a-riots-1992-4-2/
CATEGORIES:US Gun History
ATTACH;FMTTYPE=image/jpeg:https://guncalendars.com/wp-content/uploads/2017/08/IMG_20170430_003007_544.jpg
END:VEVENT
END:VCALENDAR