BEGIN:VCALENDAR
VERSION:2.0
PRODID:-//Gun Calendars - ECPv6.6.2//NONSGML v1.0//EN
CALSCALE:GREGORIAN
METHOD:PUBLISH
X-WR-CALNAME:Gun Calendars
X-ORIGINAL-URL:https://guncalendars.com
X-WR-CALDESC:Events for Gun Calendars
REFRESH-INTERVAL;VALUE=DURATION:PT1H
X-Robots-Tag:noindex
X-PUBLISHED-TTL:PT1H
BEGIN:VTIMEZONE
TZID:UTC
BEGIN:STANDARD
TZOFFSETFROM:+0000
TZOFFSETTO:+0000
TZNAME:UTC
DTSTART:20200101T000000
END:STANDARD
END:VTIMEZONE
BEGIN:VEVENT
DTSTART;VALUE=DATE:20200101
DTEND;VALUE=DATE:20200102
DTSTAMP:20260419T060741
CREATED:20190102T044528Z
LAST-MODIFIED:20191226T163211Z
UID:6318-1577836800-1577923199@guncalendars.com
SUMMARY:John Cantius Garand (Born)
DESCRIPTION:John Cantius Garand \nJan 1\, 1888 – Feb 16\, 1974 \nnnnboern \nCanada / USA \n1928 M1 Garand \nOne of only seven individuals have invented firearms adopted by the United States Military
URL:https://guncalendars.com/event/john-cantius-garand-born-2/
CATEGORIES:Firearms Inventor
ATTACH;FMTTYPE=image/jpeg:https://guncalendars.com/wp-content/uploads/2018/07/Gun-Inventors-Spades-09-John-Garand.jpg
END:VEVENT
BEGIN:VEVENT
DTSTART;VALUE=DATE:20200104
DTEND;VALUE=DATE:20200105
DTSTAMP:20260419T060741
CREATED:20190624T104337Z
LAST-MODIFIED:20190624T105528Z
UID:7044-1578096000-1578182399@guncalendars.com
SUMMARY:George Hyde (born)
DESCRIPTION:George Hyde\nJanuary 4\, 1888 – December 1963 \n1935 – co-owner of Leonard & Hydrnr\nWWII – chief gun designer for the Inland Division of General Motors (GM) \n Guns \n\nModel 33\, prototype – Submachine Gun\nAug 4\, 1936.- Model 35\, a prototype Submachine Gun\n1941 – Bendix Hyde carbine\nFeb\, 1941 – M2 Hyde – Submachine Gun\nMay 1942 – FP-45 Liberator pistol\nDec 12\, 1942 – M3 grease gun\n\n 
URL:https://guncalendars.com/event/george-hyde-born-2/
CATEGORIES:Firearms Inventor
END:VEVENT
BEGIN:VEVENT
DTSTART;VALUE=DATE:20200107
DTEND;VALUE=DATE:20200108
DTSTAMP:20260419T060741
CREATED:20191226T104647Z
LAST-MODIFIED:20191226T104647Z
UID:7331-1578355200-1578441599@guncalendars.com
SUMMARY:Dave Kopel - Born
DESCRIPTION:Dave Kopel – Born \nJan 7\, 1960 \n2A Activist His scholarship and litigation play a part in modern 2A
URL:https://guncalendars.com/event/dave-kopel-born/
CATEGORIES:2A Activist
ATTACH;FMTTYPE=image/jpeg:https://guncalendars.com/wp-content/uploads/2019/12/2A-Activists-Group-Color-David-Kopel.jpg
END:VEVENT
BEGIN:VEVENT
DTSTART;VALUE=DATE:20200118
DTEND;VALUE=DATE:20200119
DTSTAMP:20260419T060741
CREATED:20191226T112118Z
LAST-MODIFIED:20191226T113821Z
UID:7383-1579305600-1579391999@guncalendars.com
SUMMARY:Robert J. Cottrol (Born) 70
DESCRIPTION:Robert J. Cottrol\nJan 18\, 1949 \n2A Activist \n\nAmerican legal scholar and legal historian\n1993 Gun Control and the Constitution: Sources and Explorations on the Second Amendment (editor)
URL:https://guncalendars.com/event/robert-j-cottrol-born/
CATEGORIES:Author
ATTACH;FMTTYPE=image/jpeg:https://guncalendars.com/wp-content/uploads/2019/12/Bob-Cottrol-2_0.jpg
END:VEVENT
BEGIN:VEVENT
DTSTART;VALUE=DATE:20200126
DTEND;VALUE=DATE:20200127
DTSTAMP:20260419T060741
CREATED:20191226T111211Z
LAST-MODIFIED:20191226T111211Z
UID:7369-1579996800-1580083199@guncalendars.com
SUMMARY:Don Kates - (Born)
DESCRIPTION:Don Kates – Born \nJan 26\, 1941 \n2A Activist His scholarship and litigation played part in modern renaissance of 2A
URL:https://guncalendars.com/event/don-kates-born/
CATEGORIES:2A Activist
ATTACH;FMTTYPE=image/jpeg:https://guncalendars.com/wp-content/uploads/2019/12/2A-Activists-Group-Color-Don-Kates.jpg
END:VEVENT
BEGIN:VEVENT
DTSTART;VALUE=DATE:20200127
DTEND;VALUE=DATE:20200128
DTSTAMP:20260419T060741
CREATED:20191226T140947Z
LAST-MODIFIED:20191226T140947Z
UID:7401-1580083200-1580169599@guncalendars.com
SUMMARY:Louis Awerbuck (born)
DESCRIPTION:Louis Awerbuck \nJan 27\, 1948 – June 24\, 2014 \nFirearm Instructor
URL:https://guncalendars.com/event/louis-awerbuck-born/
CATEGORIES:Author,Firearms Instructor
ATTACH;FMTTYPE=image/jpeg:https://guncalendars.com/wp-content/uploads/2019/12/Louis-f.jpg
END:VEVENT
BEGIN:VEVENT
DTSTART;VALUE=DATE:20200130
DTEND;VALUE=DATE:20200131
DTSTAMP:20260419T060741
CREATED:20190118T174513Z
LAST-MODIFIED:20190118T174819Z
UID:6372-1580342400-1580428799@guncalendars.com
SUMMARY:Ferdinand Mannlicher - Born	Inventor
DESCRIPTION:Ferdinand Mannlicher – Born\nJan 30\, 1848\nInventor
URL:https://guncalendars.com/event/ferdinand-mannlicher-borninventor-2/
CATEGORIES:Firearms Inventor
END:VEVENT
END:VCALENDAR