BEGIN:VCALENDAR
VERSION:2.0
PRODID:-//Gun Calendars - ECPv6.6.2//NONSGML v1.0//EN
CALSCALE:GREGORIAN
METHOD:PUBLISH
X-ORIGINAL-URL:https://guncalendars.com
X-WR-CALDESC:Events for Gun Calendars
REFRESH-INTERVAL;VALUE=DURATION:PT1H
X-Robots-Tag:noindex
X-PUBLISHED-TTL:PT1H
BEGIN:VTIMEZONE
TZID:UTC
BEGIN:STANDARD
TZOFFSETFROM:+0000
TZOFFSETTO:+0000
TZNAME:UTC
DTSTART:20190101T000000
END:STANDARD
END:VTIMEZONE
BEGIN:VEVENT
DTSTART;VALUE=DATE:20191022
DTEND;VALUE=DATE:20191023
DTSTAMP:20260419T233827
CREATED:20190603T030321Z
LAST-MODIFIED:20190603T030946Z
UID:6906-1571702400-1571788799@guncalendars.com
SUMMARY:Jonathan Browning (Born)
DESCRIPTION:Jonathan Browning\nOctober 22\, 1805 – June 21\, 1879\nAmerican inventor/ gunsmith \nborn in Tennessee\nproducing firearms independently by 1831\nliving in Quincy\, Illinois\ninvented a “sliding breech” repeating rifle also called a Harmonica gun between 1834 and 1842
URL:https://guncalendars.com/event/jonathan-browning-died-4/
CATEGORIES:Firearms Inventor
ATTACH;FMTTYPE=image/jpeg:https://guncalendars.com/wp-content/uploads/2018/07/Gun-Inventors-Hearts-03-Jonathan-Browning.jpg
END:VEVENT
BEGIN:VEVENT
DTSTART;VALUE=DATE:20191026
DTEND;VALUE=DATE:20191027
DTSTAMP:20260419T233827
CREATED:20180619T035048Z
LAST-MODIFIED:20180619T035453Z
UID:5951-1572048000-1572134399@guncalendars.com
SUMMARY:Henry Deringer (Born)
DESCRIPTION:Henry Deringer\nOctober 26\, 1786 – February 28\, 1868 \nUSA \n\nDerringer Pistol 1825
URL:https://guncalendars.com/event/henry-deringer-born/
CATEGORIES:Firearms Inventor
ATTACH;FMTTYPE=image/jpeg:https://guncalendars.com/wp-content/uploads/2018/06/Gun-Inventors-Hearts-01-Ace-Henry-Deringer.jpg
END:VEVENT
BEGIN:VEVENT
DTSTART;VALUE=DATE:20191028
DTEND;VALUE=DATE:20191029
DTSTAMP:20260419T233827
CREATED:20180619T014436Z
LAST-MODIFIED:20180619T014529Z
UID:5863-1572220800-1572307199@guncalendars.com
SUMMARY:Eliphalet Remington (Born)
DESCRIPTION:Eliphalet Remington\nOct 28\, 1793 – Aug 12\, 1861 \nUSA \n1840 formed E. Remington and Sons\nhand-made a flintlock rifle using a firing mechanism bought from a gunsmith
URL:https://guncalendars.com/event/eliphalet-remington-born-2/
CATEGORIES:Firearms Inventor,Gun Industry
ATTACH;FMTTYPE=image/jpeg:https://guncalendars.com/wp-content/uploads/2018/06/Gun-Inventors-Spades-02-Eliphalet-Remington.jpg
END:VEVENT
BEGIN:VEVENT
DTSTART;VALUE=DATE:20191028
DTEND;VALUE=DATE:20191029
DTSTAMP:20260419T233827
CREATED:20190102T050257Z
LAST-MODIFIED:20190102T053656Z
UID:6330-1572220800-1572307199@guncalendars.com
SUMMARY:Horace Smith (Born)
DESCRIPTION:Horace Smith \nOct 28\, 1808 – Jan 15\, 1893 (85)
URL:https://guncalendars.com/event/horace-smith-died-5/
CATEGORIES:Firearms Inventor
ATTACH;FMTTYPE=image/jpeg:https://guncalendars.com/wp-content/uploads/2018/07/Gun-Inventors-Hearts-04-Horace-Smith-gun.jpg
END:VEVENT
BEGIN:VEVENT
DTSTART;VALUE=DATE:20191028
DTEND;VALUE=DATE:20191029
DTSTAMP:20260419T233827
CREATED:20190102T050257Z
LAST-MODIFIED:20190102T053512Z
UID:6331-1572220800-1572307199@guncalendars.com
SUMMARY:Horace Smith (Born)
DESCRIPTION:Horace Smith \nOct 28\, 1808 – Jan 15\, 1893 (85)
URL:https://guncalendars.com/event/horace-smith-died-4/
CATEGORIES:Firearms Inventor
ATTACH;FMTTYPE=image/jpeg:https://guncalendars.com/wp-content/uploads/2018/07/Gun-Inventors-Hearts-04-Horace-Smith-gun.jpg
END:VEVENT
END:VCALENDAR