BEGIN:VCALENDAR
VERSION:2.0
PRODID:-//Gun Calendars - ECPv6.6.2//NONSGML v1.0//EN
CALSCALE:GREGORIAN
METHOD:PUBLISH
X-ORIGINAL-URL:https://guncalendars.com
X-WR-CALDESC:Events for Gun Calendars
REFRESH-INTERVAL;VALUE=DURATION:PT1H
X-Robots-Tag:noindex
X-PUBLISHED-TTL:PT1H
BEGIN:VTIMEZONE
TZID:UTC
BEGIN:STANDARD
TZOFFSETFROM:+0000
TZOFFSETTO:+0000
TZNAME:UTC
DTSTART:20190101T000000
END:STANDARD
END:VTIMEZONE
BEGIN:VEVENT
DTSTART;VALUE=DATE:20190907
DTEND;VALUE=DATE:20190908
DTSTAMP:20260420T040043
CREATED:20190131T081315Z
LAST-MODIFIED:20190131T081705Z
UID:6519-1567814400-1567900799@guncalendars.com
SUMMARY:Ludwig Vorgrimler - Born
DESCRIPTION:Ludwig Vorgrimler\nSeptember 7\, 1912 – February 23\, 1983 (71) \n \nGerman Firearm Inventor \n\n1950 – CETME
URL:https://guncalendars.com/event/ludwig-vorgrimler-died-71-4/
CATEGORIES:Firearms Inventor
ATTACH;FMTTYPE=image/jpeg:https://guncalendars.com/wp-content/uploads/2019/01/CETME-Vorgrimler.jpg
END:VEVENT
BEGIN:VEVENT
DTSTART;VALUE=DATE:20190922
DTEND;VALUE=DATE:20190923
DTSTAMP:20260420T040043
CREATED:20180830T093814Z
LAST-MODIFIED:20180830T100056Z
UID:6188-1569110400-1569196799@guncalendars.com
SUMMARY:Kijirō Nambu (Born)
DESCRIPTION:Kijirō Nambu\nSept 22\, 1869 – May 1\, 1949 (80) \n1902 nnnthe “John Browning of Japan”\n1914 Type 3 Heavy Machine Gun\n1922 Type 11 Light Machine Gun in\n1927 Nambu Arms Manufacturing Company in Tokyo
URL:https://guncalendars.com/event/kijiro-nambu-born-2/
CATEGORIES:Firearms Inventor
END:VEVENT
BEGIN:VEVENT
DTSTART;VALUE=DATE:20190924
DTEND;VALUE=DATE:20190925
DTSTAMP:20260420T040043
CREATED:20180830T094117Z
LAST-MODIFIED:20180830T100656Z
UID:6203-1569283200-1569369599@guncalendars.com
SUMMARY:Hugo Schmeisser (Born)
DESCRIPTION:Hugo Schmeisser\nSept 24\, 1884 – Sept 12\, 1953 (69) \n\n1928 MP-28\n1938 MP-43\n1944 Sturmgewehr 44\n\nn \n 
URL:https://guncalendars.com/event/hugo-schmeisser-born-3/
CATEGORIES:Firearms Inventor
ATTACH;FMTTYPE=image/jpeg:https://guncalendars.com/wp-content/uploads/2018/07/Gun-Inventors-Diamonds-08-Hugo-Schmeisser.jpg
END:VEVENT
END:VCALENDAR