BEGIN:VCALENDAR
VERSION:2.0
PRODID:-//Gun Calendars - ECPv6.6.2//NONSGML v1.0//EN
CALSCALE:GREGORIAN
METHOD:PUBLISH
X-WR-CALNAME:Gun Calendars
X-ORIGINAL-URL:https://guncalendars.com
X-WR-CALDESC:Events for Gun Calendars
REFRESH-INTERVAL;VALUE=DURATION:PT1H
X-Robots-Tag:noindex
X-PUBLISHED-TTL:PT1H
BEGIN:VTIMEZONE
TZID:UTC
BEGIN:STANDARD
TZOFFSETFROM:+0000
TZOFFSETTO:+0000
TZNAME:UTC
DTSTART:20190101T000000
END:STANDARD
END:VTIMEZONE
BEGIN:VEVENT
DTSTART;VALUE=DATE:20190604
DTEND;VALUE=DATE:20190605
DTSTAMP:20260420T110906
CREATED:20190102T055656Z
LAST-MODIFIED:20190102T055656Z
UID:6340-1559606400-1559692799@guncalendars.com
SUMMARY:Alexander Henry (Born)
DESCRIPTION:Alexander Henry \nJune 4\, 1818 – Jan 27\, 1894 \nScotland \n1870 Martini – Henry
URL:https://guncalendars.com/event/alexander-henry-born/
CATEGORIES:Firearms Inventor
ATTACH;FMTTYPE=image/jpeg:https://guncalendars.com/wp-content/uploads/2018/07/Gun-Inventors-Clubs-03-Alexander-Henry.jpg
END:VEVENT
BEGIN:VEVENT
DTSTART;VALUE=DATE:20190614
DTEND;VALUE=DATE:20190615
DTSTAMP:20260420T110906
CREATED:20190304T140336Z
LAST-MODIFIED:20190304T142501Z
UID:6672-1560470400-1560556799@guncalendars.com
SUMMARY:Fedor Tokarev – Born
DESCRIPTION:June 14\, 1871 – March 6\, 1968 \nFedor Tokarev – Died (96) \ndesigner of the \n\nTokarev TT-30 pistol\nTT-33 pistol\nTokarev SVT-38 rifle\nSVT-40  rifle
URL:https://guncalendars.com/event/georg-luger-born-3-2/
CATEGORIES:Firearms Inventor
ATTACH;FMTTYPE=image/jpeg:https://guncalendars.com/wp-content/uploads/2019/03/DCVmOE9VwAA1t3-.jpg
END:VEVENT
BEGIN:VEVENT
DTSTART;VALUE=DATE:20190620
DTEND;VALUE=DATE:20190621
DTSTAMP:20260420T110906
CREATED:20180619T023903Z
LAST-MODIFIED:20180619T023946Z
UID:5906-1560988800-1561075199@guncalendars.com
SUMMARY:Christopher Spencer (Born)
DESCRIPTION:Christopher Miner Spencer\nJune 20\, 1833 – Jan 14\, 1922 \nUSA \n\nSpencer repeating rifle 1860 Colt\nSpencer Arms Company\nRoper Repeating Arms Company
URL:https://guncalendars.com/event/christopher-spencer-born-2/
CATEGORIES:Firearms Inventor
ATTACH;FMTTYPE=image/jpeg:https://guncalendars.com/wp-content/uploads/2018/06/Gun-Inventors-Spades-07-Christopher-Spencer.jpg
END:VEVENT
BEGIN:VEVENT
DTSTART;VALUE=DATE:20190621
DTEND;VALUE=DATE:20190622
DTSTAMP:20260420T110906
CREATED:20190409T144455Z
LAST-MODIFIED:20190409T145052Z
UID:6761-1561075200-1561161599@guncalendars.com
SUMMARY:Rex Applegate - Born
DESCRIPTION:Rex Applegate\nJune 21\, 1914 – July 14\, 1998 \n \n\nAmerican military officer\nworked for the Office of Strategic Services during World War II\n1941 – developing armed and unarmed close quarter combat courses for the US Army\n served as the personal bodyguard to President Franklin D Roosevelt\n advisor to the government of Mexico “Honorary General”\nTought John Wayne how to shoot\n technical advisor on the set of The Alamo\nApplegate was said to be the source and inspiration for several of Ian Fleming’s characters in the James Bond novels\n1943 he wrote Kill or Get Killed\na classic manual of Western-style hand-to-hand combat. \n1976 Kill or Get Killed was published by the US Marine Corps as Fleet Marine Force Reference Publication 12-80\n\n1941  Applegate-Fairbairn fighting knife\n1993 – Combat Use of the Double-Edged Fighting Knife
URL:https://guncalendars.com/event/rex-applegate-born/
CATEGORIES:Author,Firearms Instructor,Knife
ATTACH;FMTTYPE=image/jpeg:https://guncalendars.com/wp-content/uploads/2019/04/835744._UY630_SR1200630_.jpg
END:VEVENT
BEGIN:VEVENT
DTSTART;VALUE=DATE:20190627
DTEND;VALUE=DATE:20190628
DTSTAMP:20260420T110906
CREATED:20190603T041531Z
LAST-MODIFIED:20190603T041719Z
UID:6966-1561593600-1561679999@guncalendars.com
SUMMARY:Paul Mauser  (Born)
DESCRIPTION:Paul Mauser\nJune 27\, 1838 – May 29\, 1914 \n1889 – Germany Gewehr 98 and Karabiner 98k\n1889 – 7.65×53mm Mauser rifle cartridges\n1892 – 7×57mm Mauser rifle cartridges
URL:https://guncalendars.com/event/paul-mauser-born/
CATEGORIES:Firearms Inventor
ATTACH;FMTTYPE=image/jpeg:https://guncalendars.com/wp-content/uploads/2018/07/Gun-Inventors-Diamonds-03-Paul-Mauser.jpg
END:VEVENT
END:VCALENDAR