BEGIN:VCALENDAR
VERSION:2.0
PRODID:-//Gun Calendars - ECPv6.6.2//NONSGML v1.0//EN
CALSCALE:GREGORIAN
METHOD:PUBLISH
X-WR-CALNAME:Gun Calendars
X-ORIGINAL-URL:https://guncalendars.com
X-WR-CALDESC:Events for Gun Calendars
REFRESH-INTERVAL;VALUE=DURATION:PT1H
X-Robots-Tag:noindex
X-PUBLISHED-TTL:PT1H
BEGIN:VTIMEZONE
TZID:UTC
BEGIN:STANDARD
TZOFFSETFROM:+0000
TZOFFSETTO:+0000
TZNAME:UTC
DTSTART:20190101T000000
END:STANDARD
END:VTIMEZONE
BEGIN:VEVENT
DTSTART;VALUE=DATE:20190506
DTEND;VALUE=DATE:20190507
DTSTAMP:20260420T133532
CREATED:20190624T111320Z
LAST-MODIFIED:20190624T111320Z
UID:7048-1557100800-1557187199@guncalendars.com
SUMMARY:John Marlin (born)
DESCRIPTION:May 6\, 1836 – July 1\, 1901 \nDuring the American Civil War – worked at the Colt plant in Hartford \n1863 – Starting making pistols in New Haven\, Connecticut \n1881 – lever-action repeating rifle \n  \nsons Mahlon Henry and John Howard took over the company after their father’s death in 1901
URL:https://guncalendars.com/event/john-marlin-born/
CATEGORIES:Firearms Inventor
END:VEVENT
BEGIN:VEVENT
DTSTART;VALUE=DATE:20190513
DTEND;VALUE=DATE:20190514
DTSTAMP:20260420T133532
CREATED:20180822T092754Z
LAST-MODIFIED:20180830T095105Z
UID:6160-1557705600-1557791999@guncalendars.com
SUMMARY:Arthur William Savage (Born)
DESCRIPTION:May 13\, 1857 – Sept 22\, 1938\n1899 Savage Model 99 lever-action rifle\n1894 Savage started Savage Arms \n\nMarlin Repeating Arms
URL:https://guncalendars.com/event/arthur-william-savage-died-3/
CATEGORIES:Firearms Inventor
ATTACH;FMTTYPE=image/jpeg:https://guncalendars.com/wp-content/uploads/2018/07/Gun-Inventors-Hearts-07-Arthur-Savage.jpg
END:VEVENT
BEGIN:VEVENT
DTSTART;VALUE=DATE:20190523
DTEND;VALUE=DATE:20190524
DTSTAMP:20260420T133532
CREATED:20180830T094457Z
LAST-MODIFIED:20180830T100944Z
UID:6211-1558569600-1558655999@guncalendars.com
SUMMARY:Gen. Ambrose Burnside (Born)
DESCRIPTION:Gen. Ambrose Burnside\n(May 23\, 1824 – September 13\, 1881) (57)\n– 1843-1847 United States Military Academy – graduated 18th in a class of 47\n– 1847–1853 Mexican–American War (1st Lieutenant)\n– 1853 manufactured the Burnside carbine\n– 1861 – 1865 Civil War\, Major General\n– 1866-1869 Governor of Rhode Island\n– 1871 NRA’s first President\n– 1875-1881 U.S. Senator from Rhode Island\n– His distinctive style of facial hair became known as sideburns \n \n 
URL:https://guncalendars.com/event/gen-ambrose-burnside-died-2/
CATEGORIES:2A Activist
ATTACH;FMTTYPE=image/png:https://guncalendars.com/wp-content/uploads/2018/06/2A-Activists-Deck-Alpha-02-Ambrose-Burnside.png
END:VEVENT
END:VCALENDAR