BEGIN:VCALENDAR
VERSION:2.0
PRODID:-//Gun Calendars - ECPv6.6.2//NONSGML v1.0//EN
CALSCALE:GREGORIAN
METHOD:PUBLISH
X-ORIGINAL-URL:https://guncalendars.com
X-WR-CALDESC:Events for Gun Calendars
REFRESH-INTERVAL;VALUE=DURATION:PT1H
X-Robots-Tag:noindex
X-PUBLISHED-TTL:PT1H
BEGIN:VTIMEZONE
TZID:UTC
BEGIN:STANDARD
TZOFFSETFROM:+0000
TZOFFSETTO:+0000
TZNAME:UTC
DTSTART:20180101T000000
END:STANDARD
END:VTIMEZONE
BEGIN:VEVENT
DTSTART;VALUE=DATE:20181113
DTEND;VALUE=DATE:20181114
DTSTAMP:20260421T190058
CREATED:20181029T102434Z
LAST-MODIFIED:20181029T104212Z
UID:6225-1542067200-1542153599@guncalendars.com
SUMMARY:David “Carbine” Marshall Williams (born)
DESCRIPTION:David “Carbine” Marshall Williams\nNov 13\, 1900 – Jan 8\, 1975	 \nfloating chamber and the short-stroke piston				 \nColt Manufacturing Company\, U.S. Ordnance Department\,  Remington Arms\, Winchester Repeating Arms
URL:https://guncalendars.com/event/david-carbine-marshall-williams-born/
CATEGORIES:Firearms Inventor
ATTACH;FMTTYPE=image/jpeg:https://guncalendars.com/wp-content/uploads/2018/07/Gun-Inventors-Hearts-10-Carbine-Marshall-Williams.jpg
END:VEVENT
BEGIN:VEVENT
DTSTART;VALUE=DATE:20181122
DTEND;VALUE=DATE:20181123
DTSTAMP:20260421T190058
CREATED:20181029T112430Z
LAST-MODIFIED:20181029T112514Z
UID:6239-1542844800-1542931199@guncalendars.com
SUMMARY:Carl Walther (born)
DESCRIPTION:Carl Walther\nNov 22\, 1858 – July 9\, 1915 \n1886 founded the firm of Carl Walther GmbH\, (Walther)\n1908 Germany Model 1 (.25acp)
URL:https://guncalendars.com/event/carl-walther-born/
CATEGORIES:Firearms Inventor
ATTACH;FMTTYPE=image/jpeg:https://guncalendars.com/wp-content/uploads/2018/07/Gun-Inventors-Clubs-07-Carl-Walther.jpg
END:VEVENT
BEGIN:VEVENT
DTSTART;VALUE=DATE:20181126
DTEND;VALUE=DATE:20181127
DTSTAMP:20260421T190058
CREATED:20180619T032600Z
LAST-MODIFIED:20180619T032600Z
UID:5926-1543190400-1543276799@guncalendars.com
SUMMARY:Eugene Reising (Born)
DESCRIPTION:Eugene Reising\nNov 26\, 1884 – Feb 21\, 1967 \nUSA \n\nM50 Reising 1938\nOne of only seven individuals have invented firearms adopted by the United States Military\nmore than 60 firearm patents\n\nWorked with: \n\nHarrington & Richardson\nMossberg & Sons\nMarlin\nSavage\nStevens
URL:https://guncalendars.com/event/eugene-reising-born/
CATEGORIES:Firearms Inventor
ATTACH;FMTTYPE=image/jpeg:https://guncalendars.com/wp-content/uploads/2018/06/Gun-Inventors-Spades-09-Eugene-Reising.jpg
END:VEVENT
END:VCALENDAR