BEGIN:VCALENDAR
VERSION:2.0
PRODID:-//Gun Calendars - ECPv6.6.2//NONSGML v1.0//EN
CALSCALE:GREGORIAN
METHOD:PUBLISH
X-WR-CALNAME:Gun Calendars
X-ORIGINAL-URL:https://guncalendars.com
X-WR-CALDESC:Events for Gun Calendars
REFRESH-INTERVAL;VALUE=DURATION:PT1H
X-Robots-Tag:noindex
X-PUBLISHED-TTL:PT1H
BEGIN:VTIMEZONE
TZID:UTC
BEGIN:STANDARD
TZOFFSETFROM:+0000
TZOFFSETTO:+0000
TZNAME:UTC
DTSTART:20200101T000000
END:STANDARD
END:VTIMEZONE
BEGIN:VEVENT
DTSTART;VALUE=DATE:20200202
DTEND;VALUE=DATE:20200203
DTSTAMP:20260423T090353
CREATED:20190130T222012Z
LAST-MODIFIED:20190409T033208Z
UID:6713-1580601600-1580687999@guncalendars.com
SUMMARY:Ban on Import of 7.62x39 Ammo
DESCRIPTION:Feb 2\, 1994\nBan on Import of 7.62×39 Ammo \nIn a NutShell \nSomeone made a pistol that shot 7.62x39mm ammo\, and therefore steel core 7.62×39 ” pistol” ammo was now banned from import \nATF sent out a memo that the steel core (Norinco) ammo could no longer be sold by dealers \n \nOlympic arms owner messed up all of surplus 7.62×39 imports
URL:https://guncalendars.com/event/ban-on-import-of-7-62x39-ammo-2/
CATEGORIES:Firearms Laws
ATTACH;FMTTYPE=image/jpeg:https://guncalendars.com/wp-content/uploads/2019/01/Feb-2-1994.jpg
END:VEVENT
BEGIN:VEVENT
DTSTART;VALUE=DATE:20200214
DTEND;VALUE=DATE:20200215
DTSTAMP:20260423T090353
CREATED:20190131T054953Z
LAST-MODIFIED:20190131T060027Z
UID:6455-1581638400-1581724799@guncalendars.com
SUMMARY:Elmer Keith – Died
DESCRIPTION:Elmer Keith – Died \nElmer Keith\n– March 8\, 1899 – February 14\, 1984 (85)\n– During World War II\, was an inspector at the Ogden\, Utah Arsenal\n– Rifles that he inspected are cartouche stamped with the initials “OGEK” in a rectangular box \nCreator of the: \n\n1935 – .357 Magnum cartridge\n1956 – .44 Magnum cartridge\n1963 – .41 Magnum cartridge\n\n1956 – Ruger Model 29 .44 Magnum single action Blackhawk revolver
URL:https://guncalendars.com/event/elmer-keith-died-2/
CATEGORIES:Author,Firearms Inventor
ATTACH;FMTTYPE=image/jpeg:https://guncalendars.com/wp-content/uploads/2019/01/elmer-keith.jpg
END:VEVENT
BEGIN:VEVENT
DTSTART;VALUE=DATE:20200215
DTEND;VALUE=DATE:20200216
DTSTAMP:20260423T090353
CREATED:20190131T072630Z
LAST-MODIFIED:20190131T074134Z
UID:6476-1581724800-1581811199@guncalendars.com
SUMMARY:Dick Casull - Born
DESCRIPTION:Richard J. “Dick” Casull\nFebruary 15\, 1931 – May 6\, 2018 \nGunsmith and Wildcat Cartridge Developer\nCreator of the .454 Casull cartridge & More.. \n1957 – .454 Casull cartridge\n1966 – Casull Model 290\n– 290-round detachable pan magazine\n– MSRP $1060 !!\n– only 87 manufactured\n1967 – all production of Model 290 stopped\n1970 – American-180\, AM-180\, or A180\n– 177-round pan magazine\n–  fires at 1200 rounds per minute\n1971 – Casull developed a mini-revolver design\n– Rocky Mountain Arms Corp\n– RMAC of Salt Lake City\, Utah\n1975 – Rocky Mountain ceased operation\n1978 – Casull became partners with Wayne Baker in Freedom Arms\, based in Freedom\, Wyoming\n1983 – Freedom Arms Model 83\, 5-shot prototypes on Ruger Super Blackhawk frames chambered in .454 Casull\n1988 – Freedom Arms ended mini revolver production \nlverveer
URL:https://guncalendars.com/event/dick-casull-born-2/
CATEGORIES:Firearms Inventor
ATTACH;FMTTYPE=image/jpeg:https://guncalendars.com/wp-content/uploads/2019/01/Casull.jpg
END:VEVENT
END:VCALENDAR