BEGIN:VCALENDAR
VERSION:2.0
PRODID:-//Gun Calendars - ECPv6.6.2//NONSGML v1.0//EN
CALSCALE:GREGORIAN
METHOD:PUBLISH
X-WR-CALNAME:Gun Calendars
X-ORIGINAL-URL:https://guncalendars.com
X-WR-CALDESC:Events for Gun Calendars
REFRESH-INTERVAL;VALUE=DURATION:PT1H
X-Robots-Tag:noindex
X-PUBLISHED-TTL:PT1H
BEGIN:VTIMEZONE
TZID:UTC
BEGIN:STANDARD
TZOFFSETFROM:+0000
TZOFFSETTO:+0000
TZNAME:UTC
DTSTART:20170101T000000
END:STANDARD
END:VTIMEZONE
BEGIN:VEVENT
DTSTART;TZID=UTC:20170930T000000
DTEND;TZID=UTC:20170930T000000
DTSTAMP:20260423T050209
CREATED:20180529T103538Z
LAST-MODIFIED:20180529T103538Z
UID:5353-1506729600-1506729600@guncalendars.com
SUMMARY:Arizona CCW in Bars (2009)
DESCRIPTION:Sep 30\, 2009 In Arizona a new law took effect allowing people with concealed weapons permits to enter bars and restaurants\, that haven’t posted signs banning guns.\nThose carrying weapons would not be allowed to drink alcohol. \n#ArizonaLife #AZguns #ArizonaLaws \n\nhttps://www.instagram.com/p/BK_X5NBj2w-/?taken-by=gunwebsites
URL:https://guncalendars.com/event/arizona-ccw-in-bars-2009-2/
CATEGORIES:Firearms Laws
END:VEVENT
END:VCALENDAR