BEGIN:VCALENDAR
VERSION:2.0
PRODID:-//Gun Calendars - ECPv6.6.2//NONSGML v1.0//EN
CALSCALE:GREGORIAN
METHOD:PUBLISH
X-ORIGINAL-URL:https://guncalendars.com
X-WR-CALDESC:Events for Gun Calendars
REFRESH-INTERVAL;VALUE=DURATION:PT1H
X-Robots-Tag:noindex
X-PUBLISHED-TTL:PT1H
BEGIN:VTIMEZONE
TZID:UTC
BEGIN:STANDARD
TZOFFSETFROM:+0000
TZOFFSETTO:+0000
TZNAME:UTC
DTSTART:20190101T000000
END:STANDARD
END:VTIMEZONE
BEGIN:VEVENT
DTSTART;VALUE=DATE:20190801
DTEND;VALUE=DATE:20190802
DTSTAMP:20260420T133646
CREATED:20190731T132925Z
LAST-MODIFIED:20190731T132925Z
UID:7161-1564617600-1564703999@guncalendars.com
SUMMARY:Battle of Athens\, Tennessee 1946
DESCRIPTION:McMinn County War \na rebellion of citizens including World War II veterans in Athens and Etowah\, Tennessee\, United States\, against the local government in August 1946
URL:https://guncalendars.com/event/battle-of-athens-tennessee-1946/
CATEGORIES:Anniversary,US Gun History
ATTACH;FMTTYPE=image/jpeg:https://guncalendars.com/wp-content/uploads/2019/07/Battle-of-Athens-Tennessee-1946.jpg
END:VEVENT
END:VCALENDAR