BEGIN:VCALENDAR
VERSION:2.0
PRODID:-//Gun Calendars - ECPv6.6.2//NONSGML v1.0//EN
CALSCALE:GREGORIAN
METHOD:PUBLISH
X-WR-CALNAME:Gun Calendars
X-ORIGINAL-URL:https://guncalendars.com
X-WR-CALDESC:Events for Gun Calendars
REFRESH-INTERVAL;VALUE=DURATION:PT1H
X-Robots-Tag:noindex
X-PUBLISHED-TTL:PT1H
BEGIN:VTIMEZONE
TZID:UTC
BEGIN:STANDARD
TZOFFSETFROM:+0000
TZOFFSETTO:+0000
TZNAME:UTC
DTSTART:20230101T000000
END:STANDARD
END:VTIMEZONE
BEGIN:VEVENT
DTSTART;VALUE=DATE:20230625
DTEND;VALUE=DATE:20230627
DTSTAMP:20260424T203100
CREATED:20221215T093950Z
LAST-MODIFIED:20221215T094105Z
UID:10054-1687651200-1687823999@guncalendars.com
SUMMARY:O.F.A.S.T. Machinegun Shoot - OK
DESCRIPTION:OFASTS (Oklahoma Full Auto Shoot and Trade Show)\nTulsa\, OK\nJune 25-26th\nhttp://www.oklahomafullauto.com
URL:https://guncalendars.com/event/o-f-a-s-t-machinegun-shoot-ok/
CATEGORIES:Shooting Event
ATTACH;FMTTYPE=image/png:https://guncalendars.com/wp-content/uploads/2022/12/O-Fasts.png
END:VEVENT
END:VCALENDAR