BEGIN:VCALENDAR
VERSION:2.0
PRODID:-//Gun Calendars - ECPv6.6.2//NONSGML v1.0//EN
CALSCALE:GREGORIAN
METHOD:PUBLISH
X-ORIGINAL-URL:https://guncalendars.com
X-WR-CALDESC:Events for Gun Calendars
REFRESH-INTERVAL;VALUE=DURATION:PT1H
X-Robots-Tag:noindex
X-PUBLISHED-TTL:PT1H
BEGIN:VTIMEZONE
TZID:UTC
BEGIN:STANDARD
TZOFFSETFROM:+0000
TZOFFSETTO:+0000
TZNAME:UTC
DTSTART:20230101T000000
END:STANDARD
END:VTIMEZONE
BEGIN:VEVENT
DTSTART;VALUE=DATE:20230609
DTEND;VALUE=DATE:20230613
DTSTAMP:20260425T053718
CREATED:20221213T114156Z
LAST-MODIFIED:20221213T114156Z
UID:10048-1686268800-1686614399@guncalendars.com
SUMMARY:U.S. National Fastdraw Championship
DESCRIPTION:U.S. National Championship*\nJune 9th – 12th\, 2023\nOroville\, California \nhttps://www.cowboyfastdraw.com/index.php/2022-cfda-shooting-events
URL:https://guncalendars.com/event/u-s-national-fastdraw-championship/
CATEGORIES:Shooting Event
ATTACH;FMTTYPE=image/png:https://guncalendars.com/wp-content/uploads/2022/12/Cowboy-Fastdraw-Shooting-Association.png
END:VEVENT
END:VCALENDAR