BEGIN:VCALENDAR
VERSION:2.0
PRODID:-//Gun Calendars - ECPv6.6.2//NONSGML v1.0//EN
CALSCALE:GREGORIAN
METHOD:PUBLISH
X-ORIGINAL-URL:https://guncalendars.com
X-WR-CALDESC:Events for Gun Calendars
REFRESH-INTERVAL;VALUE=DURATION:PT1H
X-Robots-Tag:noindex
X-PUBLISHED-TTL:PT1H
BEGIN:VTIMEZONE
TZID:UTC
BEGIN:STANDARD
TZOFFSETFROM:+0000
TZOFFSETTO:+0000
TZNAME:UTC
DTSTART:20180101T000000
END:STANDARD
END:VTIMEZONE
BEGIN:VEVENT
DTSTART;VALUE=DATE:20180915
DTEND;VALUE=DATE:20180916
DTSTAMP:20260419T201027
CREATED:20180619T062042Z
LAST-MODIFIED:20180619T062042Z
UID:6033-1536969600-1537055999@guncalendars.com
SUMMARY:Bullpup Shoot 2018
DESCRIPTION:Manticore Arms\nBullpup Shoot 2018 \nhttp://gunchannels.com/event/166/bullpup-shoot-2018 \n Join us in Mount Carroll\, Illinois on September for our annual Bullpup Shoot! For the 4th year in a row\, The Site Firearms and Training Center \nhttp://www.bullpupshoot.com
URL:https://guncalendars.com/event/bullpup-shoot-2018/
CATEGORIES:Firearms Media Event,Gun Industry,Gun Show,Shooting Event
ATTACH;FMTTYPE=image/png:https://guncalendars.com/wp-content/uploads/2018/06/k-HCmdfx_400x400.png
END:VEVENT
END:VCALENDAR