BEGIN:VCALENDAR
VERSION:2.0
PRODID:-//Gun Calendars - ECPv6.6.2//NONSGML v1.0//EN
CALSCALE:GREGORIAN
METHOD:PUBLISH
X-WR-CALNAME:Gun Calendars
X-ORIGINAL-URL:https://guncalendars.com
X-WR-CALDESC:Events for Gun Calendars
REFRESH-INTERVAL;VALUE=DURATION:PT1H
X-Robots-Tag:noindex
X-PUBLISHED-TTL:PT1H
BEGIN:VTIMEZONE
TZID:UTC
BEGIN:STANDARD
TZOFFSETFROM:+0000
TZOFFSETTO:+0000
TZNAME:UTC
DTSTART:20180101T000000
END:STANDARD
END:VTIMEZONE
BEGIN:VEVENT
DTSTART;TZID=UTC:20181003T080000
DTEND;TZID=UTC:20181006T170000
DTSTAMP:20260419T160215
CREATED:20180619T041923Z
LAST-MODIFIED:20180619T041942Z
UID:5979-1538553600-1538845200@guncalendars.com
SUMMARY:2018 SEOPA Conference
DESCRIPTION:Southeastern Outdoor Press Association\nThe 2018 SEOPA Conference \nin Florence will take full advantage of the Palmetto State’s offerings October 3-6. From hunting and fishing in the Pee Dee River area during pre- and post-conference outings\, to our conference workshops featuring several hands-on outdoors opportunities\, attendees will be able to enjoy a combination of learning and fun. \n\n\n10/3/18 at 9:00 AM – 10/6/18 at 5:00 PM\n\n\nWhere – Florence\, SC\n\n\nHost  – Southeastern Outdoor Press Association\n\n\n \ngunchannels.com/event/204/2018-seopa-conference
URL:https://guncalendars.com/event/2018-seopa-conference/
CATEGORIES:Firearms Media Event,Shooting Event
ATTACH;FMTTYPE=image/png:https://guncalendars.com/wp-content/uploads/2018/06/seopa-3.png
END:VEVENT
BEGIN:VEVENT
DTSTART;TZID=UTC:20181012T080000
DTEND;TZID=UTC:20181014T170000
DTSTAMP:20260419T160215
CREATED:20180619T043040Z
LAST-MODIFIED:20180619T043040Z
UID:5991-1539331200-1539536400@guncalendars.com
SUMMARY:Knob Creek Machine Gun Shoot
DESCRIPTION:The Machine Gun Shoot is a bi-annual event\, typically held on the second weekend of April and October. The next Machine Gun Shoot takes place\n\n10/12/18 at 9:00 AM – 10/14/18 at 5:00 PM\n\n\ngunchannels.com/event/170/knob-creek-machine-gun-shoot
URL:https://guncalendars.com/event/knob-creek-machine-gun-shoot/
CATEGORIES:Shooting Event
ATTACH;FMTTYPE=image/png:https://guncalendars.com/wp-content/uploads/2018/06/b614_2e07.png
END:VEVENT
BEGIN:VEVENT
DTSTART;TZID=UTC:20181019T080000
DTEND;TZID=UTC:20181021T170000
DTSTAMP:20260419T160215
CREATED:20180619T045217Z
LAST-MODIFIED:20180619T045217Z
UID:5997-1539936000-1540141200@guncalendars.com
SUMMARY:Big Sandy Shoot Fall 2018
DESCRIPTION:A twice a year\, three day weekend of friends\, weapons\, targets and gear in Arizona’s high\, western desert. With a quarter mile long firing range\, populated by hundreds of shooters\, The Big Sandy is the largest machine-gun shoot in the United States. This NFA shooting range will test yourself\, your weapon and your sights. \nhttp://www.mgshooters.com \nHeld in Northwestern Arizona\, approximately 10 miles northeast of the town Wikieup\, where you can get some distance on your targets. Some targets fly the length of the range at high speeds\, some explode. If you’re up to it\, please come visit this uniquely American event. \n10/19/18 at 1:00 AM – 10/21/18 at 1:00 AM \ngunchannels.com/event/168/big-sandy-shoot-fall-2018
URL:https://guncalendars.com/event/big-sandy-shoot-fall-2018/
CATEGORIES:Shooting Event
ATTACH;FMTTYPE=image/jpeg:https://guncalendars.com/wp-content/uploads/2018/06/mar.jpg
END:VEVENT
END:VCALENDAR