BEGIN:VCALENDAR
VERSION:2.0
PRODID:-//Gun Calendars - ECPv6.6.2//NONSGML v1.0//EN
CALSCALE:GREGORIAN
METHOD:PUBLISH
X-ORIGINAL-URL:https://guncalendars.com
X-WR-CALDESC:Events for Gun Calendars
REFRESH-INTERVAL;VALUE=DURATION:PT1H
X-Robots-Tag:noindex
X-PUBLISHED-TTL:PT1H
BEGIN:VTIMEZONE
TZID:UTC
BEGIN:STANDARD
TZOFFSETFROM:+0000
TZOFFSETTO:+0000
TZNAME:UTC
DTSTART:20200101T000000
END:STANDARD
END:VTIMEZONE
BEGIN:VEVENT
DTSTART;TZID=UTC:20200213T080000
DTEND;TZID=UTC:20200216T170000
DTSTAMP:20260422T160219
CREATED:20190130T203853Z
LAST-MODIFIED:20190130T204032Z
UID:6402-1581580800-1581872400@guncalendars.com
SUMMARY:Western Hunting & Conservation Expo
DESCRIPTION:February 13 – 16\, 2020\nSalt Palace Convention Center\nSalt Lake City \nthe very best in North American wildlife conservation and hunting expositions with a joint national convention between two major North American wildlife conservation organizations – Sportsmen for Fish & Wildlife (SFW) and the Mule Deer Foundation (MDF).\n\nExhibit Hall Hours:\nThursday 10am – 7pm\nFriday 10am – 7pm\nSaturday 10am – 7pm\nSunday 10am – 4pm
URL:https://guncalendars.com/event/western-hunting-conservation-expo-2/
CATEGORIES:Outdoor Industry
ATTACH;FMTTYPE=image/png:https://guncalendars.com/wp-content/uploads/2019/01/WHCE-Logo_-22.png
END:VEVENT
END:VCALENDAR