BEGIN:VCALENDAR
VERSION:2.0
PRODID:-//Gun Calendars - ECPv6.6.2//NONSGML v1.0//EN
CALSCALE:GREGORIAN
METHOD:PUBLISH
X-ORIGINAL-URL:https://guncalendars.com
X-WR-CALDESC:Events for Gun Calendars
REFRESH-INTERVAL;VALUE=DURATION:PT1H
X-Robots-Tag:noindex
X-PUBLISHED-TTL:PT1H
BEGIN:VTIMEZONE
TZID:UTC
BEGIN:STANDARD
TZOFFSETFROM:+0000
TZOFFSETTO:+0000
TZNAME:UTC
DTSTART:20240101T000000
END:STANDARD
END:VTIMEZONE
BEGIN:VEVENT
DTSTART;VALUE=DATE:20240810
DTEND;VALUE=DATE:20240811
DTSTAMP:20260421T135700
CREATED:20190731T140737Z
LAST-MODIFIED:20220805T093610Z
UID:9748-1723248000-1723334399@guncalendars.com
SUMMARY:U.S. Department of Defense Birthday (234)
DESCRIPTION:Aug 10\, 1789 \nThe United States Department of Defense is an executive branch department of the federal government charged with coordinating and supervising all agencies and functions of the government concerned directly with national security and the United States Armed Forces.
URL:https://guncalendars.com/event/u-s-department-of-defense-birthday-230-3-4/
CATEGORIES:Military Date
ATTACH;FMTTYPE=image/png:https://guncalendars.com/wp-content/uploads/2019/07/National_Military_Establishment_seal_1947-1949.png
END:VEVENT
END:VCALENDAR