BEGIN:VCALENDAR
VERSION:2.0
PRODID:-//Gun Calendars - ECPv6.6.2//NONSGML v1.0//EN
CALSCALE:GREGORIAN
METHOD:PUBLISH
X-ORIGINAL-URL:https://guncalendars.com
X-WR-CALDESC:Events for Gun Calendars
REFRESH-INTERVAL;VALUE=DURATION:PT1H
X-Robots-Tag:noindex
X-PUBLISHED-TTL:PT1H
BEGIN:VTIMEZONE
TZID:UTC
BEGIN:STANDARD
TZOFFSETFROM:+0000
TZOFFSETTO:+0000
TZNAME:UTC
DTSTART:20190101T000000
END:STANDARD
END:VTIMEZONE
BEGIN:VEVENT
DTSTART;VALUE=DATE:20190623
DTEND;VALUE=DATE:20190624
DTSTAMP:20260420T222108
CREATED:20180529T103344Z
LAST-MODIFIED:20190620T042400Z
UID:6949-1561248000-1561334399@guncalendars.com
SUMMARY:Coast Guard Auxiliary Birthday
DESCRIPTION:February 19 is formally recognized as the birth of the Coast Guard Reserve while June 23 is recognized as birthday of the Coast Guard Auxiliary \n \nHistory Of The Coast Guard Auxiliary \nOn June 23\, 1939\, Congress authorized the creation of a Reserve component for the Coast Guard. At the time\, the Coast Guard Reserve was made up of civilian volunteers\, but later Congress acted to make the Reserve a bona fide branch of the Armed Forces just like the Air Force Reserve\, Army Reserve\, etc. \nThat act\, known as the Auxiliary And Reserve Act of 1941\, established the Coast Guard Auxiliary alongside the Reserve. \nThe newly created Coast Guard Auxiliary would basically be tasked to perform in the same way the original Coast Guard Reserve had\, utilizing a non-military and all-volunteer force to serve in America’s waterways\, the high seas\, and other “navigable waters”. \nThose who served in the earlier Reserve and later with the Auxiliary often owned their own vessels\, but today’s service requirements for Coast Guard Auxiliary volunteers does not necessarily include boat ownership.
URL:https://guncalendars.com/event/coast-guard-auxiliary-birthday-3-2/
CATEGORIES:Military Date
ATTACH;FMTTYPE=image/png:https://guncalendars.com/wp-content/uploads/2018/05/download-5.png
END:VEVENT
END:VCALENDAR