BEGIN:VCALENDAR
VERSION:2.0
PRODID:-//Gun Calendars - ECPv6.6.2//NONSGML v1.0//EN
CALSCALE:GREGORIAN
METHOD:PUBLISH
X-ORIGINAL-URL:https://guncalendars.com
X-WR-CALDESC:Events for Gun Calendars
REFRESH-INTERVAL;VALUE=DURATION:PT1H
X-Robots-Tag:noindex
X-PUBLISHED-TTL:PT1H
BEGIN:VTIMEZONE
TZID:UTC
BEGIN:STANDARD
TZOFFSETFROM:+0000
TZOFFSETTO:+0000
TZNAME:UTC
DTSTART:20190101T000000
END:STANDARD
END:VTIMEZONE
BEGIN:VEVENT
DTSTART;VALUE=DATE:20190305
DTEND;VALUE=DATE:20190306
DTSTAMP:20260422T001417
CREATED:20190304T135757Z
LAST-MODIFIED:20190304T135757Z
UID:6654-1551744000-1551830399@guncalendars.com
SUMMARY:March 5\, 1942	Seabee Birthday - 77th
DESCRIPTION:March 5\, 1942 \nSeabee Birthday (77)
URL:https://guncalendars.com/event/march-5-1942seabee-birthday-77th/
CATEGORIES:Anniversary,Military Date
ATTACH;FMTTYPE=image/png:https://guncalendars.com/wp-content/uploads/2019/03/1200px-USN-Seabees-Insignia.svg_.png
END:VEVENT
END:VCALENDAR