BEGIN:VCALENDAR
VERSION:2.0
PRODID:-//Gun Calendars - ECPv6.6.2//NONSGML v1.0//EN
CALSCALE:GREGORIAN
METHOD:PUBLISH
X-ORIGINAL-URL:https://guncalendars.com
X-WR-CALDESC:Events for Gun Calendars
REFRESH-INTERVAL;VALUE=DURATION:PT1H
X-Robots-Tag:noindex
X-PUBLISHED-TTL:PT1H
BEGIN:VTIMEZONE
TZID:UTC
BEGIN:STANDARD
TZOFFSETFROM:+0000
TZOFFSETTO:+0000
TZNAME:UTC
DTSTART:20180101T000000
END:STANDARD
END:VTIMEZONE
BEGIN:VEVENT
DTSTART;VALUE=DATE:20180608
DTEND;VALUE=DATE:20180609
DTSTAMP:20260423T064634
CREATED:20180609T022445Z
LAST-MODIFIED:20180609T022445Z
UID:5810-1528416000-1528502399@guncalendars.com
SUMMARY:Air Force Captain Scott O'Grady rescue (1995)
DESCRIPTION:June 8\, 1995 Marine TRAP Team\, 24th MEU rescues Air Force Captain Scott O’Grady from Bosnia
URL:https://guncalendars.com/event/air-force-captain-scott-ogrady-rescue-1995/
CATEGORIES:Military Date
END:VEVENT
END:VCALENDAR