BEGIN:VCALENDAR
VERSION:2.0
PRODID:-//Gun Calendars - ECPv6.6.2//NONSGML v1.0//EN
CALSCALE:GREGORIAN
METHOD:PUBLISH
X-ORIGINAL-URL:https://guncalendars.com
X-WR-CALDESC:Events for Gun Calendars
REFRESH-INTERVAL;VALUE=DURATION:PT1H
X-Robots-Tag:noindex
X-PUBLISHED-TTL:PT1H
BEGIN:VTIMEZONE
TZID:UTC
BEGIN:STANDARD
TZOFFSETFROM:+0000
TZOFFSETTO:+0000
TZNAME:UTC
DTSTART:20180101T000000
END:STANDARD
END:VTIMEZONE
BEGIN:VEVENT
DTSTART;VALUE=DATE:20180528
DTEND;VALUE=DATE:20180530
DTSTAMP:20260422T225955
CREATED:20180528T103341Z
LAST-MODIFIED:20180530T032425Z
UID:4917-1527465600-1527638399@guncalendars.com
SUMMARY:Memorial Day (Decoration Day)
DESCRIPTION:to commemorate all who have died in military service for the United States
URL:https://guncalendars.com/event/memorial-day-decoration-day-3/
CATEGORIES:Military Date
END:VEVENT
END:VCALENDAR