BEGIN:VCALENDAR
VERSION:2.0
PRODID:-//Gun Calendars - ECPv6.6.2//NONSGML v1.0//EN
CALSCALE:GREGORIAN
METHOD:PUBLISH
X-WR-CALNAME:Gun Calendars
X-ORIGINAL-URL:https://guncalendars.com
X-WR-CALDESC:Events for Gun Calendars
REFRESH-INTERVAL;VALUE=DURATION:PT1H
X-Robots-Tag:noindex
X-PUBLISHED-TTL:PT1H
BEGIN:VTIMEZONE
TZID:UTC
BEGIN:STANDARD
TZOFFSETFROM:+0000
TZOFFSETTO:+0000
TZNAME:UTC
DTSTART:20240101T000000
END:STANDARD
END:VTIMEZONE
BEGIN:VEVENT
DTSTART;VALUE=DATE:20240807
DTEND;VALUE=DATE:20240808
DTSTAMP:20260421T133755
CREATED:20180529T103348Z
LAST-MODIFIED:20220805T092301Z
UID:9718-1722988800-1723075199@guncalendars.com
SUMMARY:Purple Heart Day
DESCRIPTION:National Purple Heart Day honors the men and women who have been wounded or killed in military service. \n“Order of the Purple Heart” is created by President George Washington \nThe holiday was first observed in 2014\, is considered an unofficial observance meaning that businesses\, government offices etc. do not close on this day. \nPeople take the time to listen to soldiers and veterans and learn more about their life stories and their military service. \nhttps://www.instagram.com/p/BXgZyhSAlzp/?taken-by=gunwebsites \n 
URL:https://guncalendars.com/event/purple-heart-day-3-4-4/
CATEGORIES:Military Date
ATTACH;FMTTYPE=image/jpeg:https://guncalendars.com/wp-content/uploads/2018/08/IMG_20170807_133923_787.jpg
END:VEVENT
BEGIN:VEVENT
DTSTART;VALUE=DATE:20240810
DTEND;VALUE=DATE:20240811
DTSTAMP:20260421T133755
CREATED:20190731T140737Z
LAST-MODIFIED:20220805T093610Z
UID:9748-1723248000-1723334399@guncalendars.com
SUMMARY:U.S. Department of Defense Birthday (234)
DESCRIPTION:Aug 10\, 1789 \nThe United States Department of Defense is an executive branch department of the federal government charged with coordinating and supervising all agencies and functions of the government concerned directly with national security and the United States Armed Forces.
URL:https://guncalendars.com/event/u-s-department-of-defense-birthday-230-3-4/
CATEGORIES:Military Date
ATTACH;FMTTYPE=image/png:https://guncalendars.com/wp-content/uploads/2019/07/National_Military_Establishment_seal_1947-1949.png
END:VEVENT
BEGIN:VEVENT
DTSTART;VALUE=DATE:20240811
DTEND;VALUE=DATE:20240817
DTSTAMP:20260421T133755
CREATED:20190731T143345Z
LAST-MODIFIED:20220805T094447Z
UID:9774-1723334400-1723852799@guncalendars.com
SUMMARY:Watts Riots - 1965
DESCRIPTION:Aug 11\, 1965 – Aug 16\, 1965 \nthe Watts Rebellion\, took place in the Watts neighborhood of Los Angeles from August 11 to 16\, 1965. \n\n\n\n34 Deaths\n1\,032 Injuries\n3\,438 Arrested\n$40 million in property damage\n4\,000 members of the California Army National Guard
URL:https://guncalendars.com/event/watts-riots-1965-3-4/
CATEGORIES:Anniversary,Gun Control,Law Enforcement,Military Date,US Gun History
ATTACH;FMTTYPE=image/jpeg:https://guncalendars.com/wp-content/uploads/2019/07/image-placeholder-title.jpg
END:VEVENT
BEGIN:VEVENT
DTSTART;VALUE=DATE:20240820
DTEND;VALUE=DATE:20240821
DTSTAMP:20260421T133755
CREATED:20190731T150712Z
LAST-MODIFIED:20220805T095930Z
UID:9813-1724112000-1724198399@guncalendars.com
SUMMARY:Civil War is formally declared to be over 1866
DESCRIPTION:Civil War is formally declared to be over by President Andrew Johnson \nAlthough bloodshed ended over a year before\, there had never been a formal declaration of peace and reunification in the country before today. \nOn August 20\, 1866\, President Johnson issued a proclamation announcing the end of the American Civil War: “And I do further proclaim that the said insurrection is at an end and that peace\, order\, tranquility\, and civil authority now exists in and throughout the whole of the United States of America.” \nOn August 20\, 1866\, President Johnson issued a proclamation announcing the end of the American Civil War: “And I do further l Warproclaim that the said insurrection is at an end and that peace\, order\, tranquility\, and civil authority now exists in and throughout the whole of the United States of America.”
URL:https://guncalendars.com/event/civil-war-is-formally-declared-to-be-over-3-4/
CATEGORIES:Anniversary,Military Date
ATTACH;FMTTYPE=image/jpeg:https://guncalendars.com/wp-content/uploads/2019/07/surrenders-proclamation1-l.jpg
END:VEVENT
END:VCALENDAR