BEGIN:VCALENDAR
VERSION:2.0
PRODID:-//Gun Calendars - ECPv6.6.2//NONSGML v1.0//EN
CALSCALE:GREGORIAN
METHOD:PUBLISH
X-ORIGINAL-URL:https://guncalendars.com
X-WR-CALDESC:Events for Gun Calendars
REFRESH-INTERVAL;VALUE=DURATION:PT1H
X-Robots-Tag:noindex
X-PUBLISHED-TTL:PT1H
BEGIN:VTIMEZONE
TZID:UTC
BEGIN:STANDARD
TZOFFSETFROM:+0000
TZOFFSETTO:+0000
TZNAME:UTC
DTSTART:20230101T000000
END:STANDARD
END:VTIMEZONE
BEGIN:VEVENT
DTSTART;VALUE=DATE:20230915
DTEND;VALUE=DATE:20230916
DTSTAMP:20260424T191627
CREATED:20180529T103541Z
LAST-MODIFIED:20210910T105228Z
UID:9302-1694736000-1694822399@guncalendars.com
SUMMARY:POW / MIA Recognition Day
DESCRIPTION:A time set aside to remember those who were prisoners of war (POW) and those\nwho are missing in action (MIA)\, as well as their families\n\nU.S. National POW/MIA Recognition Day\nObserved on the third Friday of September.Take time to remember those who were prisoners of war (POW) those missing in action (MIA)\, as well as their families#POWMIA #POW #MIA #NeverForgotten\n\nhttps://www.instagram.com/p/BKbPYi7AOX_/?taken-by=gunwebsites \n\nStuff is cool\, news changes\, but\nlet us never forget how we got here… And who paid the price \n#POW #MIA\n#NeverForget \nhttps://www.instagram.com/p/BKcRKZWA1t6/?taken-by=gunwebsites \nhttps://www.instagram.com/p/BKbPp-LgJ7t/?taken-by=gunwebsites
URL:https://guncalendars.com/event/pow-mia-recognition-day-5-4/
CATEGORIES:Military Date
ATTACH;FMTTYPE=image/jpeg:https://guncalendars.com/wp-content/uploads/2018/09/IMG_20160916_201906.jpg
END:VEVENT
BEGIN:VEVENT
DTSTART;VALUE=DATE:20230924
DTEND;VALUE=DATE:20230925
DTSTAMP:20260424T191627
CREATED:20180529T103352Z
LAST-MODIFIED:20210910T105329Z
UID:9307-1695513600-1695599999@guncalendars.com
SUMMARY:Gold Star Mother's and Family's Day (1936)
DESCRIPTION:A day set aside to honor the families of our nation’s fallen service members\nOn June 23\, 1936\, then President Franklin D. Roosevelt permanently established the last Sunday of September as Gold Star Mother’s Day.\nToday we honor our nation’s Gold Star Mothers for their courage\, resiliency\, and sacrifice\n(photo: Gold Star Mothers Monument in Yonkers\, NY) \n\nhttps://www.instagram.com/p/BKy2KTSgMvx/?taken-by=gunwebsites
URL:https://guncalendars.com/event/gold-star-mothers-and-familys-day-1936-3-2-3-3/
CATEGORIES:Military Date
ATTACH;FMTTYPE=image/jpeg:https://guncalendars.com/wp-content/uploads/2018/05/IMG_20160925_144545.jpg
END:VEVENT
END:VCALENDAR