BEGIN:VCALENDAR
VERSION:2.0
PRODID:-//Gun Calendars - ECPv6.6.2//NONSGML v1.0//EN
CALSCALE:GREGORIAN
METHOD:PUBLISH
X-ORIGINAL-URL:https://guncalendars.com
X-WR-CALDESC:Events for Gun Calendars
REFRESH-INTERVAL;VALUE=DURATION:PT1H
X-Robots-Tag:noindex
X-PUBLISHED-TTL:PT1H
BEGIN:VTIMEZONE
TZID:UTC
BEGIN:STANDARD
TZOFFSETFROM:+0000
TZOFFSETTO:+0000
TZNAME:UTC
DTSTART:20190101T000000
END:STANDARD
END:VTIMEZONE
BEGIN:VEVENT
DTSTART;TZID=UTC:20190902T000000
DTEND;TZID=UTC:20190902T000000
DTSTAMP:20260420T013900
CREATED:20180529T103609Z
LAST-MODIFIED:20180529T103609Z
UID:5459-1567382400-1567382400@guncalendars.com
SUMMARY:World War II Ends (1945)
DESCRIPTION:Sept 2nd\, 1945World War II Ends\nCombat ends in the Pacific\nThe Japanese Instrument of Surrender is signed and accepted aboard the battleship USS Missouri in Tokyo Bay \n\nhttps://www.instagram.com/p/7ImyoRqhU6/?taken-by=gunwebsites \n 
URL:https://guncalendars.com/event/world-war-ii-ends-1945-3/
CATEGORIES:Military Date
END:VEVENT
BEGIN:VEVENT
DTSTART;TZID=UTC:20190920T000000
DTEND;TZID=UTC:20190920T000000
DTSTAMP:20260420T013900
CREATED:20180529T103541Z
LAST-MODIFIED:20180529T103541Z
UID:5365-1568937600-1568937600@guncalendars.com
SUMMARY:POW / MIA Recognition Day
DESCRIPTION:A time set aside to remember those who were prisoners of war (POW) and those\nwho are missing in action (MIA)\, as well as their families\n\nU.S. National POW/MIA Recognition Day\nObserved on the third Friday of September.Take time to remember those who were prisoners of war (POW) those missing in action (MIA)\, as well as their families#POWMIA #POW #MIA #NeverForgotten\n\nhttps://www.instagram.com/p/BKbPYi7AOX_/?taken-by=gunwebsites \n\nStuff is cool\, news changes\, but\nlet us never forget how we got here… And who paid the price \n#POW #MIA\n#NeverForget \nhttps://www.instagram.com/p/BKcRKZWA1t6/?taken-by=gunwebsites \nhttps://www.instagram.com/p/BKbPp-LgJ7t/?taken-by=gunwebsites
URL:https://guncalendars.com/event/pow-mia-recognition-day-5/
CATEGORIES:Military Date
ATTACH;FMTTYPE=image/jpeg:https://guncalendars.com/wp-content/uploads/2018/09/IMG_20160916_201906.jpg
END:VEVENT
BEGIN:VEVENT
DTSTART;VALUE=DATE:20190929
DTEND;VALUE=DATE:20190930
DTSTAMP:20260420T013900
CREATED:20180529T103352Z
LAST-MODIFIED:20180602T162043Z
UID:5687-1569715200-1569801599@guncalendars.com
SUMMARY:Gold Star Mother's and Family's Day (1936)
DESCRIPTION:A day set aside to honor the families of our nation’s fallen service members\nOn June 23\, 1936\, then President Franklin D. Roosevelt permanently established the last Sunday of September as Gold Star Mother’s Day.\nToday we honor our nation’s Gold Star Mothers for their courage\, resiliency\, and sacrifice\n(photo: Gold Star Mothers Monument in Yonkers\, NY) \n\nhttps://www.instagram.com/p/BKy2KTSgMvx/?taken-by=gunwebsites
URL:https://guncalendars.com/event/gold-star-mothers-and-familys-day-1936-3-2/
CATEGORIES:Military Date
ATTACH;FMTTYPE=image/jpeg:https://guncalendars.com/wp-content/uploads/2018/05/IMG_20160925_144545.jpg
END:VEVENT
END:VCALENDAR