BEGIN:VCALENDAR
VERSION:2.0
PRODID:-//Gun Calendars - ECPv6.6.2//NONSGML v1.0//EN
CALSCALE:GREGORIAN
METHOD:PUBLISH
X-ORIGINAL-URL:https://guncalendars.com
X-WR-CALDESC:Events for Gun Calendars
REFRESH-INTERVAL;VALUE=DURATION:PT1H
X-Robots-Tag:noindex
X-PUBLISHED-TTL:PT1H
BEGIN:VTIMEZONE
TZID:UTC
BEGIN:STANDARD
TZOFFSETFROM:+0000
TZOFFSETTO:+0000
TZNAME:UTC
DTSTART:20190101T000000
END:STANDARD
END:VTIMEZONE
BEGIN:VEVENT
DTSTART;VALUE=DATE:20190701
DTEND;VALUE=DATE:20190702
DTSTAMP:20260420T140855
CREATED:20180529T103409Z
LAST-MODIFIED:20190624T113256Z
UID:7062-1561939200-1562025599@guncalendars.com
SUMMARY:Bureau of Alcohol Tobacco & Firearms created (1972)
DESCRIPTION:July 1\, 1972\nBureau of Alcohol Tobacco & Firearms was created \n\nEnforcement of the Gun Control Act was given to the Dept. of the Treasury’s Alcohol and Tobacco Tax Division of the Internal Revenue Service.\nThe organization replaced “tax” with “firearms\,” nearly doubled in size\, and became the Bureau of Alcohol\, Tobacco and Firearms (ATF). \n#GunChannels\n#GunLaws #KnowWhoEnforcesLaws #ATF#BATFE #USGunLaw \nhttps://www.instagram.com/p/BWAy_wIg05u/?taken-by=gunwebsites
URL:https://guncalendars.com/event/bureau-of-alcohol-tobacco-firearms-created-1972-3-2/
CATEGORIES:Military Date
ATTACH;FMTTYPE=image/jpeg:https://guncalendars.com/wp-content/uploads/2017/08/IMG_20170701_103232_648.jpg
END:VEVENT
BEGIN:VEVENT
DTSTART;VALUE=DATE:20190704
DTEND;VALUE=DATE:20190705
DTSTAMP:20260420T140855
CREATED:20190624T140528Z
LAST-MODIFIED:20190624T140528Z
UID:7066-1562198400-1562284799@guncalendars.com
SUMMARY:Rock Island Arsenal Museum opened 1905
DESCRIPTION:Rock Island Arsenal Museum was established in 1905 \nopened to the public on July 4\, 1905 \n\nOctober 1\, 1903 – Chief of Ordnance sent fifteen boxes of ordnance\n1904 after St. Louis World’s Fair – weapons confiscated during the Philippine Insurrection and taxidermy horse specimens sent to RI\n1909 – The Catalogue of the Ordnance Museum\, Rock Island Arsenal published\nJuly 4\, 1919 museum reopened after WWI in its original location\nNow called the Rock Island Arsenal Museum\nMay 1948 – Reopened after WWII in Building 60\nNovember 4\, 1959 – renamed the John M. Browning Memorial Museum\n1962 – all U.S. Army Museums were placed under the authority of the U.S. Army Center of Military History\nJuly 1\, 1986 – renamed the Rock Island Arsenal Museum
URL:https://guncalendars.com/event/rock-island-arsenal-museum-opened-1905/
CATEGORIES:Anniversary,Military Date
END:VEVENT
BEGIN:VEVENT
DTSTART;TZID=UTC:20190721T000000
DTEND;TZID=UTC:20190721T000000
DTSTAMP:20260420T140855
CREATED:20180529T103520Z
LAST-MODIFIED:20180529T103520Z
UID:5299-1563667200-1563667200@guncalendars.com
SUMMARY:USMC War Dogs of World War II (1994)
DESCRIPTION:Hundreds of heroic war dogs served in the United States Marine Corps during World War II.Most were Doberman Pinschers\, German Shepherds\, Labrador Retrievers and occasionally\, a Collie served during the war as sentries\, messengers\, and scouts.\nThey also served other roles to the Marines who served with them…devoted friend\, confidant\, trusted companion. \nFourteen dogs were killed in action and others died from exhaustion\, tropical illness\, heat stroke\, accidents\, and anemia from hookworm.\nAll were buried in Guam \n#Doberman\n#Doberman_Pincher\n#DogsOfWar \nhttps://www.instagram.com/p/BNxyr2iDCB6/?taken-by=gunwebsites \n\n 
URL:https://guncalendars.com/event/usmc-war-dogs-of-world-war-ii-1994-4/
CATEGORIES:Military Date
ATTACH;FMTTYPE=image/jpeg:https://guncalendars.com/wp-content/uploads/2017/08/IMG_20161208_183050.jpg
END:VEVENT
BEGIN:VEVENT
DTSTART;VALUE=DATE:20190729
DTEND;VALUE=DATE:20190730
DTSTAMP:20260420T140855
CREATED:20180529T103347Z
LAST-MODIFIED:20190624T225440Z
UID:7116-1564358400-1564444799@guncalendars.com
SUMMARY:Anniversary of the Army Chaplain Corps
DESCRIPTION:The Chaplain Corps is one of the oldest and smallest branches of the Army. \nArmy Chaplain Corps dates to July 29\, 1775\,\nthe Continental Congress authorized one chaplain for each regiment of the Continental regiments \ncommissioned Army officers serving as military chaplains as well as enlisted soldiers who serve as assistants. Their purpose is to offer religious church services\, counseling\, and moral support to the armed forces\, whether in peacetime or at war.
URL:https://guncalendars.com/event/anniversary-of-the-army-chaplain-corps-3-2/
CATEGORIES:Military Date
END:VEVENT
END:VCALENDAR