BEGIN:VCALENDAR
VERSION:2.0
PRODID:-//Gun Calendars - ECPv6.6.2//NONSGML v1.0//EN
CALSCALE:GREGORIAN
METHOD:PUBLISH
X-ORIGINAL-URL:https://guncalendars.com
X-WR-CALDESC:Events for Gun Calendars
REFRESH-INTERVAL;VALUE=DURATION:PT1H
X-Robots-Tag:noindex
X-PUBLISHED-TTL:PT1H
BEGIN:VTIMEZONE
TZID:UTC
BEGIN:STANDARD
TZOFFSETFROM:+0000
TZOFFSETTO:+0000
TZNAME:UTC
DTSTART:20190101T000000
END:STANDARD
END:VTIMEZONE
BEGIN:VEVENT
DTSTART;VALUE=DATE:20190501
DTEND;VALUE=DATE:20190502
DTSTAMP:20260421T074221
CREATED:20190131T101304Z
LAST-MODIFIED:20190131T101749Z
UID:6599-1556668800-1556755199@guncalendars.com
SUMMARY:Browning BAR Adopted by U.S. Army
DESCRIPTION:Browning BAR adopted by U.S. Army\nFeb 27\, 1917 \nAdopted by the U.S. Army as the “Model 1918” – or M1918. \n“On May 1\, 1917\, the Secretary of War convened an ordnance panel to test and recommend for adoption a light machine gun or automatic rifle. Browning’s was quickly adopted. It was known as the Browning Automatic Rifle’ and was soon referred to primarily by its initials ‘B-A-R.’ The BAR was chambered for the standard M1906 (.30-’06) cartridge and was capable of semi-automatic or fully automatic operation at the rate of some 550 rounds per minute.” \nJohn Browning invented the “Browning Automatic Rifle” (“BAR”)
URL:https://guncalendars.com/event/browning-bar-demonstrated-to-u-s-army-3-2-3/
CATEGORIES:Gun,Military Date
ATTACH;FMTTYPE=image/jpeg:https://guncalendars.com/wp-content/uploads/2019/01/BAR.jpg
END:VEVENT
BEGIN:VEVENT
DTSTART;TZID=UTC:20190508T000000
DTEND;TZID=UTC:20190508T000000
DTSTAMP:20260421T074221
CREATED:20180529T103556Z
LAST-MODIFIED:20180529T103556Z
UID:5417-1557273600-1557273600@guncalendars.com
SUMMARY:V-E Day (1945)
DESCRIPTION:Victory in Europe Day\nV-E Day May 8\, 1945\ncelebrated on May 8th \nToday marks the formal acceptance of Nazi Germany’s unconditional surrender\nThis marked the end of World War II in Europe. \n#ThankAVet\n#NeverForget #TeachHistoryToKids#ThoseWhoForgetItWillReliveIt\n#RecordYourGrandparentsStorysToday \n\nhttps://www.instagram.com/p/BFMHGPaKhS3/?taken-by=gunwebsites
URL:https://guncalendars.com/event/v-e-day-1945-4/
CATEGORIES:Military Date
ATTACH;FMTTYPE=image/jpeg:https://guncalendars.com/wp-content/uploads/2017/08/IMG_20160509_070614.jpg
END:VEVENT
BEGIN:VEVENT
DTSTART;TZID=UTC:20190512T000000
DTEND;TZID=UTC:20190512T000000
DTSTAMP:20260421T074221
CREATED:20180529T103425Z
LAST-MODIFIED:20180529T103425Z
UID:5102-1557619200-1557619200@guncalendars.com
SUMMARY:Military Spouse Appreciation Day
DESCRIPTION: to acknowledge the contributions and sacrifices of the spouses of\nthe U.S. Armed Forces\n\nToday is National Military Spouse Appreciation Day! The Green Beret Foundation is sincerely appreciative of Special Forces spouses\, or as we call them\, Steel Mags. Steel Mags are tough\, resilient\, focused\, caring\, resourceful\, dependable women who serve to strengthen the Special Forces Regiment and the Green Berets they love\, while empowering each other.\n\nhttps://www.instagram.com/p/BUAFdFqgN1Z/?taken-by=gunwebsites
URL:https://guncalendars.com/event/military-spouse-appreciation-day-4/
CATEGORIES:Military Date
END:VEVENT
BEGIN:VEVENT
DTSTART;TZID=UTC:20190513T000000
DTEND;TZID=UTC:20190513T000000
DTSTAMP:20260421T074221
CREATED:20180529T103339Z
LAST-MODIFIED:20180529T103339Z
UID:4910-1557705600-1557705600@guncalendars.com
SUMMARY:Children of Fallen Patriots Day
DESCRIPTION:A day to honor the families our Fallen Heroes have left behind – especially their children
URL:https://guncalendars.com/event/children-of-fallen-patriots-day-3/
CATEGORIES:Military Date
END:VEVENT
BEGIN:VEVENT
DTSTART;TZID=UTC:20190518T000000
DTEND;TZID=UTC:20190518T000000
DTSTAMP:20260421T074221
CREATED:20180529T103554Z
LAST-MODIFIED:20180529T103554Z
UID:5409-1558137600-1558137600@guncalendars.com
SUMMARY:Armed Forces Day (1949)
DESCRIPTION:pay tribute to men and women who serve in the United States’ Armed Forces\n\nToday is Armed Forces Day! President Harry S. Truman led the effort to establish a single holiday for citizens to come together and thank our military members for their patriotic service in support of our country.\nThe single day celebration stemmed from the unification of the Armed Forces under the Department of Defense.\n#ArmedForcesDay\n\nhttps://www.instagram.com/p/BFrfkoWKhay/?taken-by=gunwebsites\n\n\n https://www.instagram.com/p/2vqAq5qhRR/?taken-by=gunwebsites
URL:https://guncalendars.com/event/armed-forces-day-1949-4/
CATEGORIES:Military Date
END:VEVENT
END:VCALENDAR