BEGIN:VCALENDAR
VERSION:2.0
PRODID:-//Gun Calendars - ECPv6.6.2//NONSGML v1.0//EN
CALSCALE:GREGORIAN
METHOD:PUBLISH
X-ORIGINAL-URL:https://guncalendars.com
X-WR-CALDESC:Events for Gun Calendars
REFRESH-INTERVAL;VALUE=DURATION:PT1H
X-Robots-Tag:noindex
X-PUBLISHED-TTL:PT1H
BEGIN:VTIMEZONE
TZID:UTC
BEGIN:STANDARD
TZOFFSETFROM:+0000
TZOFFSETTO:+0000
TZNAME:UTC
DTSTART:20190101T000000
END:STANDARD
END:VTIMEZONE
BEGIN:VEVENT
DTSTART;VALUE=DATE:20190303
DTEND;VALUE=DATE:20190304
DTSTAMP:20260421T145844
CREATED:20190303T071745Z
LAST-MODIFIED:20190303T071745Z
UID:6633-1551571200-1551657599@guncalendars.com
SUMMARY:Navy Reserve Birthday - 104th
DESCRIPTION:U.S. Navy Reserve will celebrate its 104th anniversary \nNavy Reserve was officially established March 3\, 1915
URL:https://guncalendars.com/event/navy-reserve-birthday-104th/
CATEGORIES:Anniversary,Military Date
ATTACH;FMTTYPE=image/png:https://guncalendars.com/wp-content/uploads/2019/03/1200px-Seal_of_the_United_States_Navy_Reserve.svg_.png
END:VEVENT
BEGIN:VEVENT
DTSTART;VALUE=DATE:20190305
DTEND;VALUE=DATE:20190306
DTSTAMP:20260421T145844
CREATED:20190304T135757Z
LAST-MODIFIED:20190304T135757Z
UID:6654-1551744000-1551830399@guncalendars.com
SUMMARY:March 5\, 1942	Seabee Birthday - 77th
DESCRIPTION:March 5\, 1942 \nSeabee Birthday (77)
URL:https://guncalendars.com/event/march-5-1942seabee-birthday-77th/
CATEGORIES:Anniversary,Military Date
ATTACH;FMTTYPE=image/png:https://guncalendars.com/wp-content/uploads/2019/03/1200px-USN-Seabees-Insignia.svg_.png
END:VEVENT
BEGIN:VEVENT
DTSTART;TZID=UTC:20190313T000000
DTEND;TZID=UTC:20190313T000000
DTSTAMP:20260421T145844
CREATED:20180529T103558Z
LAST-MODIFIED:20180529T103558Z
UID:5422-1552435200-1552435200@guncalendars.com
SUMMARY:K 9 Veterans Day (1942)
DESCRIPTION:March 13\, 1942 is the official birthday of the United States K9 Corps\nNational K9 Veterans Day is celebrated on March 13th on the official birthday of the US Army K9 Corps\, which was formed in 1942. \n#K9VeteransDay\n#Doberman #DogsOfWWII \nhttps://www.instagram.com/p/BC5tskqqhcp/?taken-by=gunwebsites \nhttps://www.instagram.com/p/BC5t29rqhdC/?taken-by=gunwebsites \nSome Gave All \n\nhttps://www.instagram.com/p/BC5uCODKhdi/?taken-by=gunwebsites \nCan’t think of better sleep in foxhole than with this guy watching your back \nhttps://www.instagram.com/p/BC5v1znqhS0/?taken-by=gunwebsites
URL:https://guncalendars.com/event/k-9-veterans-day-1942-4/
CATEGORIES:Military Date
END:VEVENT
BEGIN:VEVENT
DTSTART;TZID=UTC:20190325T000000
DTEND;TZID=UTC:20190325T000000
DTSTAMP:20260421T145844
CREATED:20180529T103446Z
LAST-MODIFIED:20180529T103446Z
UID:5178-1553472000-1553472000@guncalendars.com
SUMMARY:Medal of Honor Day
DESCRIPTION:oday is National Medal of Honor Day! The first Medals of Honor were presented on March 25\, 1863.To commemorate this date and all Medal of Honor recipients\, Congress declared March 25th as National Medal of Honor Day.\nThe Medal of Honor is reserved for those who have distinguished themselves “conspicuously by gallantry and intrepidity.” This National Medal of Honor Day\, we remember the courage and selfless sacrifice of those incredible individuals. 3\,498 have been awarded the Medal of Honor and today there are 75 Living Recipients of the Medal of Honor.\nTo learn more about the Medal of Honor\, visit the Congressional Medal of Honor Society website: http://www.cmohs.org/ \n\nhttps://www.instagram.com/p/BSFJ-AAALMZ/?taken-by=gunwebsites \n 
URL:https://guncalendars.com/event/medal-of-honor-day-4/
CATEGORIES:Military Date
ATTACH;FMTTYPE=image/jpeg:https://guncalendars.com/wp-content/uploads/2017/08/IMG_20170325_170439_183.jpg
END:VEVENT
END:VCALENDAR