BEGIN:VCALENDAR
VERSION:2.0
PRODID:-//Gun Calendars - ECPv6.6.2//NONSGML v1.0//EN
CALSCALE:GREGORIAN
METHOD:PUBLISH
X-WR-CALNAME:Gun Calendars
X-ORIGINAL-URL:https://guncalendars.com
X-WR-CALDESC:Events for Gun Calendars
REFRESH-INTERVAL;VALUE=DURATION:PT1H
X-Robots-Tag:noindex
X-PUBLISHED-TTL:PT1H
BEGIN:VTIMEZONE
TZID:UTC
BEGIN:STANDARD
TZOFFSETFROM:+0000
TZOFFSETTO:+0000
TZNAME:UTC
DTSTART:20180101T000000
END:STANDARD
END:VTIMEZONE
BEGIN:VEVENT
DTSTART;VALUE=DATE:20180603
DTEND;VALUE=DATE:20180604
DTSTAMP:20260423T040720
CREATED:20170603T140435Z
LAST-MODIFIED:20180602T141346Z
UID:5659-1527984000-1528070399@guncalendars.com
SUMMARY:National Defense Act
DESCRIPTION:National Defense Act of 1916 \n\nJune 3\, 1916\nFederal law that updated the Militia Act of 1903\nIncluded an expansion of the Army and the National Guard\nCreated  the Officers’ and an Enlisted Reserve Corp\nCreated of a Reserve Officers’ Training Corps (ROTC)
URL:https://guncalendars.com/event/national-defense-act-2-2/
CATEGORIES:Firearms Laws,Military Date
END:VEVENT
BEGIN:VEVENT
DTSTART;TZID=UTC:20180606T000000
DTEND;TZID=UTC:20180606T000000
DTSTAMP:20260423T040720
CREATED:20180529T103342Z
LAST-MODIFIED:20180529T103342Z
UID:4920-1528243200-1528243200@guncalendars.com
SUMMARY:Anniversary of D-Day (1944)
DESCRIPTION:Anniversary of the World War II Allied invasion in Normandy\, France\, know as D-Day (1944) \n\nhttps://www.instagram.com/p/BVAC57oA19o/?taken-by=gunwebsites \n 
URL:https://guncalendars.com/event/anniversary-of-d-day-1944-3/
CATEGORIES:Military Date
ATTACH;FMTTYPE=image/jpeg:https://guncalendars.com/wp-content/uploads/2017/08/IMG_20170606_070054_252.jpg
END:VEVENT
BEGIN:VEVENT
DTSTART;VALUE=DATE:20180608
DTEND;VALUE=DATE:20180609
DTSTAMP:20260423T040720
CREATED:20180609T022445Z
LAST-MODIFIED:20180609T022445Z
UID:5810-1528416000-1528502399@guncalendars.com
SUMMARY:Air Force Captain Scott O'Grady rescue (1995)
DESCRIPTION:June 8\, 1995 Marine TRAP Team\, 24th MEU rescues Air Force Captain Scott O’Grady from Bosnia
URL:https://guncalendars.com/event/air-force-captain-scott-ogrady-rescue-1995/
CATEGORIES:Military Date
END:VEVENT
BEGIN:VEVENT
DTSTART;VALUE=DATE:20180609
DTEND;VALUE=DATE:20180610
DTSTAMP:20260423T040720
CREATED:20180610T065443Z
LAST-MODIFIED:20180610T074921Z
UID:5820-1528502400-1528588799@guncalendars.com
SUMMARY:Battle of Dong Xoai
DESCRIPTION:Battle of Dong Xoai\n\nJune 10\, 1965\n11 Green Berets of Detachment A-342\, 5th Special Forces (SF) Group\n9 Seabees of Team 1104\, Naval Mobile Construction Battalion 11\n435 Cambodians and South Vietnamese\nDong Xoai\, district capital of Phuoc Long province in War Zone D\ntwo Viet Cong regiments (1\,500 soldiers)\n\n\n \n\n11:30 p.m. on June 9 the opening barrage began with 400 rounds of 60mm mortar fire\nTwo SF members were KIA by mortar fragments\n2:30 a.m.\, the communists had breached the wall\, forcing the defenders back to the district headquarters building\nSF 2nd Lt. Charles Q. Williams & Seabee Marvin G. Shields\nWilliams and Shields were awarded the Medal of Honor\nMaj. Lawrence T. Holland\, of the 615th Tactical Fighter Squadron\n\nOf the 20 Americans based there\, six were KIA (four Green Berets and two Seabees) and 14 WIA. Then there were the five MACV advisers and eight helicopter crewmen KIA. A fighter pilot killed brought the final toll to 19 \nhttp://digitaledition.qwinc.com/article/%E2%80%98Remember_Dong_Xoai!%E2%80%99/1995814/256808/article.html \nhttp://www.118ahc.org/dong%20xoai.htm
URL:https://guncalendars.com/event/battle-of-dong-xoai/
CATEGORIES:Military Date
ATTACH;FMTTYPE=image/jpeg:https://guncalendars.com/wp-content/uploads/2018/06/PaperDongXoai4-65.jpg
END:VEVENT
BEGIN:VEVENT
DTSTART;TZID=UTC:20180611T000000
DTEND;TZID=UTC:20180611T000000
DTSTAMP:20260423T040720
CREATED:20180529T103414Z
LAST-MODIFIED:20180529T103414Z
UID:5058-1528675200-1528675200@guncalendars.com
SUMMARY:(10th) SFG (Airborne) established
DESCRIPTION:the first United States Army Special Forces Group “Green Berets” were established (10th) SFG (Airborne)\nOn June 11\, 1952\, the first United States Army Special Forces Group “Green Berets” were established (10th) SFG (Airborne) \nToday is the ‘Green Berets’ Anniversary \nGreen Beret Foundation \nHome \n\n@greenberetfoundation \n#GreenBeretFoundation\n#SpecialForces #GreenBeret #June11th1952 \n\nhttps://www.instagram.com/p/BVMwitCg5cP/?taken-by=gunwebsites
URL:https://guncalendars.com/event/10th-sfg-airborne-established-3/
CATEGORIES:Military Date
ATTACH;FMTTYPE=image/jpeg:https://guncalendars.com/wp-content/uploads/2017/08/IMG_20170611_053035_639.jpg
END:VEVENT
BEGIN:VEVENT
DTSTART;TZID=UTC:20180614T000000
DTEND;TZID=UTC:20180614T000000
DTSTAMP:20260423T040720
CREATED:20180529T103342Z
LAST-MODIFIED:20180529T103342Z
UID:4923-1528934400-1528934400@guncalendars.com
SUMMARY:Flag Day
DESCRIPTION:A day to commemorate the adoption of the United States flag
URL:https://guncalendars.com/event/flag-day-3/
CATEGORIES:Military Date
END:VEVENT
BEGIN:VEVENT
DTSTART;TZID=UTC:20180614T000000
DTEND;TZID=UTC:20180614T000000
DTSTAMP:20260423T040720
CREATED:20180529T103343Z
LAST-MODIFIED:20180529T103343Z
UID:4926-1528934400-1528934400@guncalendars.com
SUMMARY:Army Birthday
DESCRIPTION:
URL:https://guncalendars.com/event/army-birthday-3/
CATEGORIES:Military Date
END:VEVENT
BEGIN:VEVENT
DTSTART;VALUE=DATE:20180619
DTEND;VALUE=DATE:20180620
DTSTAMP:20260423T040720
CREATED:20180529T103356Z
LAST-MODIFIED:20180529T181319Z
UID:4992-1529366400-1529452799@guncalendars.com
SUMMARY:United States Army Special Forces Birthday (1952)
DESCRIPTION:Motto: De Oppresso Liber\n\n\n\n\nFounded: June 19\, 1952\, Fort Bragg\, NC\n\n\n\n\nNickname(s): Green Berets\, Quiet Professionals\n\n\n\n\nRole: Counter-terrorism\n\n\n\n\nFounder: John F. Kennedy\n\n\nGreen Berets (1952)
URL:https://guncalendars.com/event/united-states-army-special-forces-birthday-1952-3/
CATEGORIES:Military Date
ATTACH;FMTTYPE=image/jpeg:https://guncalendars.com/wp-content/uploads/2017/08/IMG_20170611_053659_204.jpg
END:VEVENT
BEGIN:VEVENT
DTSTART;VALUE=DATE:20180623
DTEND;VALUE=DATE:20180624
DTSTAMP:20260423T040720
CREATED:20180529T103344Z
LAST-MODIFIED:20190603T035828Z
UID:4929-1529712000-1529798399@guncalendars.com
SUMMARY:Coast Guard Auxiliary Birthday
DESCRIPTION:February 19 is formally recognized as the birth of the Coast Guard Reserve while June 23 is recognized as birthday of the Coast Guard Auxiliary
URL:https://guncalendars.com/event/coast-guard-auxiliary-birthday-3/
CATEGORIES:Military Date
ATTACH;FMTTYPE=image/png:https://guncalendars.com/wp-content/uploads/2018/05/download-5.png
END:VEVENT
BEGIN:VEVENT
DTSTART;TZID=UTC:20180625T000000
DTEND;TZID=UTC:20180625T000000
DTSTAMP:20260423T040720
CREATED:20180529T103344Z
LAST-MODIFIED:20180529T103344Z
UID:4932-1529884800-1529884800@guncalendars.com
SUMMARY:Start of the Korean War (1950)
DESCRIPTION:Anniversary of the start of the Korean War (1950)
URL:https://guncalendars.com/event/start-of-the-korean-war-1950-3/
CATEGORIES:Military Date
END:VEVENT
END:VCALENDAR