BEGIN:VCALENDAR
VERSION:2.0
PRODID:-//Gun Calendars - ECPv6.6.2//NONSGML v1.0//EN
CALSCALE:GREGORIAN
METHOD:PUBLISH
X-ORIGINAL-URL:https://guncalendars.com
X-WR-CALDESC:Events for Gun Calendars
REFRESH-INTERVAL;VALUE=DURATION:PT1H
X-Robots-Tag:noindex
X-PUBLISHED-TTL:PT1H
BEGIN:VTIMEZONE
TZID:UTC
BEGIN:STANDARD
TZOFFSETFROM:+0000
TZOFFSETTO:+0000
TZNAME:UTC
DTSTART:20170101T000000
END:STANDARD
END:VTIMEZONE
BEGIN:VEVENT
DTSTART;VALUE=DATE:20170603
DTEND;VALUE=DATE:20170604
DTSTAMP:20260420T114751
CREATED:20180603T140435Z
LAST-MODIFIED:20180602T141420Z
UID:5662-1496448000-1496534399@guncalendars.com
SUMMARY:National Defense Act
DESCRIPTION:National Defense Act of 1916 \n\nJune 3\, 1916\nFederal law that updated the Militia Act of 1903\nIncluded an expansion of the Army and the National Guard\nCreated  the Officers’ and an Enlisted Reserve Corp\nCreated of a Reserve Officers’ Training Corps (ROTC)
URL:https://guncalendars.com/event/national-defense-act-3/
CATEGORIES:Firearms Laws,Military Date
END:VEVENT
BEGIN:VEVENT
DTSTART;TZID=UTC:20170606T000000
DTEND;TZID=UTC:20170606T000000
DTSTAMP:20260420T114751
CREATED:20180529T103341Z
LAST-MODIFIED:20180529T103341Z
UID:4918-1496707200-1496707200@guncalendars.com
SUMMARY:Anniversary of D-Day (1944)
DESCRIPTION:Anniversary of the World War II Allied invasion in Normandy\, France\, know as D-Day (1944) \n\nhttps://www.instagram.com/p/BVAC57oA19o/?taken-by=gunwebsites \n 
URL:https://guncalendars.com/event/anniversary-of-d-day-1944/
CATEGORIES:Military Date
ATTACH;FMTTYPE=image/jpeg:https://guncalendars.com/wp-content/uploads/2017/08/IMG_20170606_070054_252.jpg
END:VEVENT
BEGIN:VEVENT
DTSTART;TZID=UTC:20170611T000000
DTEND;TZID=UTC:20170611T000000
DTSTAMP:20260420T114751
CREATED:20180529T103413Z
LAST-MODIFIED:20180529T103413Z
UID:5056-1497139200-1497139200@guncalendars.com
SUMMARY:(10th) SFG (Airborne) established
DESCRIPTION:the first United States Army Special Forces Group “Green Berets” were established (10th) SFG (Airborne)\nOn June 11\, 1952\, the first United States Army Special Forces Group “Green Berets” were established (10th) SFG (Airborne) \nToday is the ‘Green Berets’ Anniversary \nGreen Beret Foundation \nHome \n\n@greenberetfoundation \n#GreenBeretFoundation\n#SpecialForces #GreenBeret #June11th1952 \n\nhttps://www.instagram.com/p/BVMwitCg5cP/?taken-by=gunwebsites
URL:https://guncalendars.com/event/10th-sfg-airborne-established/
CATEGORIES:Military Date
ATTACH;FMTTYPE=image/jpeg:https://guncalendars.com/wp-content/uploads/2017/08/IMG_20170611_053035_639.jpg
END:VEVENT
BEGIN:VEVENT
DTSTART;TZID=UTC:20170614T000000
DTEND;TZID=UTC:20170614T000000
DTSTAMP:20260420T114751
CREATED:20180529T103343Z
LAST-MODIFIED:20180529T103343Z
UID:4924-1497398400-1497398400@guncalendars.com
SUMMARY:Army Birthday
DESCRIPTION:
URL:https://guncalendars.com/event/army-birthday/
CATEGORIES:Military Date
END:VEVENT
BEGIN:VEVENT
DTSTART;TZID=UTC:20170619T000000
DTEND;TZID=UTC:20170619T000000
DTSTAMP:20260420T114751
CREATED:20180529T103356Z
LAST-MODIFIED:20180529T103356Z
UID:4990-1497830400-1497830400@guncalendars.com
SUMMARY:United States Army Special Forces Birthday (1952)
DESCRIPTION:Motto: De Oppresso Liber\n\n\n\n\nFounded: June 19\, 1952\, Fort Bragg\, NC\n\n\n\n\nNickname(s): Green Berets\, Quiet Professionals\n\n\n\n\nRole: Counter-terrorism\n\n\n\n\nFounder: John F. Kennedy
URL:https://guncalendars.com/event/united-states-army-special-forces-birthday-1952/
CATEGORIES:Military Date
END:VEVENT
BEGIN:VEVENT
DTSTART;TZID=UTC:20170623T000000
DTEND;TZID=UTC:20170623T000000
DTSTAMP:20260420T114751
CREATED:20180529T103343Z
LAST-MODIFIED:20180529T103343Z
UID:4927-1498176000-1498176000@guncalendars.com
SUMMARY:Coast Guard Auxiliary Birthday
DESCRIPTION:
URL:https://guncalendars.com/event/coast-guard-auxiliary-birthday/
CATEGORIES:Military Date
END:VEVENT
BEGIN:VEVENT
DTSTART;TZID=UTC:20170625T000000
DTEND;TZID=UTC:20170625T000000
DTSTAMP:20260420T114751
CREATED:20180529T103344Z
LAST-MODIFIED:20180529T103344Z
UID:4930-1498348800-1498348800@guncalendars.com
SUMMARY:Start of the Korean War (1950)
DESCRIPTION:Anniversary of the start of the Korean War (1950)
URL:https://guncalendars.com/event/start-of-the-korean-war-1950/
CATEGORIES:Military Date
END:VEVENT
BEGIN:VEVENT
DTSTART;TZID=UTC:20170626T000000
DTEND;TZID=UTC:20170626T000000
DTSTAMP:20260420T114751
CREATED:20180529T103344Z
LAST-MODIFIED:20180529T103344Z
UID:4933-1498435200-1498435200@guncalendars.com
SUMMARY:National PTSD Awareness Day
DESCRIPTION:A day set aside to raise public awareness about issues related to PTSD
URL:https://guncalendars.com/event/national-ptsd-awareness-day/
CATEGORIES:Military Date
END:VEVENT
END:VCALENDAR