BEGIN:VCALENDAR
VERSION:2.0
PRODID:-//Gun Calendars - ECPv6.6.2//NONSGML v1.0//EN
CALSCALE:GREGORIAN
METHOD:PUBLISH
X-ORIGINAL-URL:https://guncalendars.com
X-WR-CALDESC:Events for Gun Calendars
REFRESH-INTERVAL;VALUE=DURATION:PT1H
X-Robots-Tag:noindex
X-PUBLISHED-TTL:PT1H
BEGIN:VTIMEZONE
TZID:UTC
BEGIN:STANDARD
TZOFFSETFROM:+0000
TZOFFSETTO:+0000
TZNAME:UTC
DTSTART:20200101T000000
END:STANDARD
END:VTIMEZONE
BEGIN:VEVENT
DTSTART;VALUE=DATE:20200120
DTEND;VALUE=DATE:20200121
DTSTAMP:20260421T082734
CREATED:20180529T103605Z
LAST-MODIFIED:20191226T110443Z
UID:7362-1579478400-1579564799@guncalendars.com
SUMMARY:Gun Websites Created (2004)
DESCRIPTION:We had started making websites about guns\, but at the end of 2004. we decided to unite them all under one website\nAfter our first year of SHOT Show (as media) we came back to Tucson and set up GunWebsites.com \nGun Websites Created\nJan 20\, 2005 \n#GunWebsites \n\nhttps://www.instagram.com/p/BAxTIZwKhRg/?taken-by=gunwebsites \n 
URL:https://guncalendars.com/event/gun-websites-created-2004-5-2/
CATEGORIES:Gun Websites
ATTACH;FMTTYPE=image/jpeg:https://guncalendars.com/wp-content/uploads/2017/08/cropped-Gun-Websites-Logo-Tan-Border.jpg
END:VEVENT
END:VCALENDAR