BEGIN:VCALENDAR
VERSION:2.0
PRODID:-//Gun Calendars - ECPv6.6.2//NONSGML v1.0//EN
CALSCALE:GREGORIAN
METHOD:PUBLISH
X-ORIGINAL-URL:https://guncalendars.com
X-WR-CALDESC:Events for Gun Calendars
REFRESH-INTERVAL;VALUE=DURATION:PT1H
X-Robots-Tag:noindex
X-PUBLISHED-TTL:PT1H
BEGIN:VTIMEZONE
TZID:UTC
BEGIN:STANDARD
TZOFFSETFROM:+0000
TZOFFSETTO:+0000
TZNAME:UTC
DTSTART:20190101T000000
END:STANDARD
END:VTIMEZONE
BEGIN:VEVENT
DTSTART;VALUE=DATE:20190811
DTEND;VALUE=DATE:20190814
DTSTAMP:20260425T053826
CREATED:20190731T153613Z
LAST-MODIFIED:20190731T153613Z
UID:7285-1565481600-1565740799@guncalendars.com
SUMMARY:Army Navy Military Expo 2019
DESCRIPTION:ANME is a B2B tradeshow that offers goods from the army-navy\, tactical & law enforcement\, camping & outdoors industries. \n \n…more real army surplus under one roof than any trade show YOU will attend!
URL:https://guncalendars.com/event/army-navy-military-expo-2019/
CATEGORIES:Gun Industry,Outdoor Industry
ATTACH;FMTTYPE=image/jpeg:https://guncalendars.com/wp-content/uploads/2019/07/Army-Navy-Military-Expo-2018.jpg
END:VEVENT
BEGIN:VEVENT
DTSTART;VALUE=DATE:20190812
DTEND;VALUE=DATE:20190813
DTSTAMP:20260425T053826
CREATED:20180619T014436Z
LAST-MODIFIED:20180619T014909Z
UID:5869-1565568000-1565654399@guncalendars.com
SUMMARY:Eliphalet Remington (Died)
DESCRIPTION:Eliphalet Remington\nOct 28\, 1793 – Aug 12\, 1861 \nUSA \n1840 formed E. Remington and Sons\nhand-made a flintlock rifle using a firing mechanism bought from a gunsmith
URL:https://guncalendars.com/event/eliphalet-remington-died-2/
CATEGORIES:Firearms Inventor,Gun Industry
ATTACH;FMTTYPE=image/jpeg:https://guncalendars.com/wp-content/uploads/2018/06/Gun-Inventors-Spades-02-Eliphalet-Remington.jpg
END:VEVENT
END:VCALENDAR