BEGIN:VCALENDAR
VERSION:2.0
PRODID:-//Gun Calendars - ECPv6.6.2//NONSGML v1.0//EN
CALSCALE:GREGORIAN
METHOD:PUBLISH
X-ORIGINAL-URL:https://guncalendars.com
X-WR-CALDESC:Events for Gun Calendars
REFRESH-INTERVAL;VALUE=DURATION:PT1H
X-Robots-Tag:noindex
X-PUBLISHED-TTL:PT1H
BEGIN:VTIMEZONE
TZID:UTC
BEGIN:STANDARD
TZOFFSETFROM:+0000
TZOFFSETTO:+0000
TZNAME:UTC
DTSTART:20240101T000000
END:STANDARD
END:VTIMEZONE
BEGIN:VEVENT
DTSTART;VALUE=DATE:20240808
DTEND;VALUE=DATE:20240809
DTSTAMP:20260421T133859
CREATED:19690809T040331Z
LAST-MODIFIED:20220805T093111Z
UID:9738-1723075200-1723161599@guncalendars.com
SUMMARY:Bannerman’s Island Castle warehouse burns down 1969
DESCRIPTION:1969 \n\nFrancis Bannerman VI (1851-1918)\n1900 Francis Bannerman purchased Pollepel Island\n– 6.5-acre island in the Hudson River\n– 50 miles north of New York City\n1967  the family sold Bannerman island to New York State\n– surplus warehouse was abandoned\n1969 Bannerman’s Island Castle warehouse burns down\nToday the Bannerman Castle Trust preserves the castle & island
URL:https://guncalendars.com/event/bannermans-island-castle-warehouse-burns-down-1969-3-2/
CATEGORIES:Anniversary,Gun Industry
ATTACH;FMTTYPE=image/png:https://guncalendars.com/wp-content/uploads/1969/08/Shooters-Almanac-2019-Bannerman-II.png
END:VEVENT
BEGIN:VEVENT
DTSTART;VALUE=DATE:20240825
DTEND;VALUE=DATE:20240826
DTSTAMP:20260421T133859
CREATED:20190731T151558Z
LAST-MODIFIED:20220805T100532Z
UID:9830-1724544000-1724630399@guncalendars.com
SUMMARY:Auto-Ordnance Corporation Founded - 1916
DESCRIPTION:Aug 25\,1916 \nAuto-Ordnance Corporation Founded
URL:https://guncalendars.com/event/auto-ordnance-corporation-founded-1916-3-4/
CATEGORIES:Gun Industry
ATTACH;FMTTYPE=image/jpeg:https://guncalendars.com/wp-content/uploads/2019/07/The-Thompson-Submachine-Gun.jpg
END:VEVENT
END:VCALENDAR