BEGIN:VCALENDAR
VERSION:2.0
PRODID:-//Gun Calendars - ECPv6.6.2//NONSGML v1.0//EN
CALSCALE:GREGORIAN
METHOD:PUBLISH
X-ORIGINAL-URL:https://guncalendars.com
X-WR-CALDESC:Events for Gun Calendars
REFRESH-INTERVAL;VALUE=DURATION:PT1H
X-Robots-Tag:noindex
X-PUBLISHED-TTL:PT1H
BEGIN:VTIMEZONE
TZID:UTC
BEGIN:STANDARD
TZOFFSETFROM:+0000
TZOFFSETTO:+0000
TZNAME:UTC
DTSTART:20210101T000000
END:STANDARD
END:VTIMEZONE
BEGIN:VEVENT
DTSTART;VALUE=DATE:20210102
DTEND;VALUE=DATE:20210103
DTSTAMP:20260421T051734
CREATED:20180619T015307Z
LAST-MODIFIED:20210105T005724Z
UID:8847-1609545600-1609631999@guncalendars.com
SUMMARY:Christian Sharps (Born)
DESCRIPTION:Christian Sharps\nJan 2\, 1810 – March 12\, 1874 \nUSA \n\nSharps rifle\, 4 barrel derringer 1851\n1855 the first commercially successful breech-loading rifle\nfifteen firearms-related patents
URL:https://guncalendars.com/event/christian-sharps-born-2-2/
CATEGORIES:Firearms Inventor,Gun Industry
ATTACH;FMTTYPE=image/jpeg:https://guncalendars.com/wp-content/uploads/2018/06/Gun-Inventors-Spades-03-Christian-Sharps.jpg
END:VEVENT
BEGIN:VEVENT
DTSTART;VALUE=DATE:20230112
DTEND;VALUE=DATE:20230115
DTSTAMP:20260421T051734
CREATED:19770101T153520Z
LAST-MODIFIED:20221212T205609Z
UID:8899-1673481600-1673740799@guncalendars.com
SUMMARY:Sheep Show\, 2023
DESCRIPTION: founded in 1977\nBozeman\, Montana \nSheep Week 2023 \nvirtual\, hunter’s experience every mountain game enthusiast will want to participate in. This best-in-class digital event will have all the trimmings\, including chances to win incredible hunts\, adventures\, gear\, sporting art\, and collectibles. \n\nfounded in 1977\nby hunter-conservationists\nconcerned about the populations of wild sheep\nmembership of more than 8\,500 worldwide\nhas raised and expended more than $135 million\n-wild sheep habitat and population enhancements\, education\, and conservation advocacy programs\n\nbighorn sheep populations\nin North America \n\n 1950-60s = historic lows in the of 25\,000\ntoday = more than 85\,000\n\nhttps://www.wildsheepfoundation.org/convention \n \n 
URL:https://guncalendars.com/event/sheep-show-2023/
CATEGORIES:Gun Industry,Hunting,Outdoor Industry
ATTACH;FMTTYPE=image/png:https://guncalendars.com/wp-content/uploads/1977/01/Sheep-Week-2023-lll.png
END:VEVENT
BEGIN:VEVENT
DTSTART;VALUE=DATE:20210127
DTEND;VALUE=DATE:20210128
DTSTAMP:20260421T051734
CREATED:20200207T150818Z
LAST-MODIFIED:20200207T150846Z
UID:7814-1611705600-1611791999@guncalendars.com
SUMMARY:Rob Leatham (born)
DESCRIPTION:Rob Leatham\n\n\nJanuary 27\, 1961 \n\nProfessional shooter\n24-time USPSA National champion\n7-time International Practical Shooting Confederation (IPSC) World Champion\n1970s started competition shooting\n1980s invented the Modern Isosceles shooting stance
URL:https://guncalendars.com/event/rob-leatham-born-2/
CATEGORIES:Gun Industry
ATTACH;FMTTYPE=image/jpeg:https://guncalendars.com/wp-content/uploads/2020/02/Rob-Leatham.jpg
END:VEVENT
END:VCALENDAR