BEGIN:VCALENDAR
VERSION:2.0
PRODID:-//Gun Calendars - ECPv6.6.2//NONSGML v1.0//EN
CALSCALE:GREGORIAN
METHOD:PUBLISH
X-ORIGINAL-URL:https://guncalendars.com
X-WR-CALDESC:Events for Gun Calendars
REFRESH-INTERVAL;VALUE=DURATION:PT1H
X-Robots-Tag:noindex
X-PUBLISHED-TTL:PT1H
BEGIN:VTIMEZONE
TZID:UTC
BEGIN:STANDARD
TZOFFSETFROM:+0000
TZOFFSETTO:+0000
TZNAME:UTC
DTSTART:20190101T000000
END:STANDARD
END:VTIMEZONE
BEGIN:VEVENT
DTSTART;VALUE=DATE:20190608
DTEND;VALUE=DATE:20190609
DTSTAMP:20260425T074821
CREATED:20180530T035923Z
LAST-MODIFIED:20180530T040038Z
UID:5574-1559952000-1560038399@guncalendars.com
SUMMARY:First National Conference on the Shooting Sports (1960)
DESCRIPTION:First National Conference on the Shooting Sports \n\nJune 8\, 1960\nCreated by Warren Page\n(Shooting Editor for Field & Stream 1947-1974)\nThis would become the NSSF
URL:https://guncalendars.com/event/first-national-conference-on-the-shooting-sports-1960-2/
CATEGORIES:Gun Industry,US Gun History
ATTACH;FMTTYPE=image/jpeg:https://guncalendars.com/wp-content/uploads/2018/05/SHOTBlog_OriginalLogo-1.jpg
END:VEVENT
BEGIN:VEVENT
DTSTART;VALUE=DATE:20190630
DTEND;VALUE=DATE:20190701
DTSTAMP:20260425T074821
CREATED:20180529T181513Z
LAST-MODIFIED:20190603T050352Z
UID:7013-1561852800-1561939199@guncalendars.com
SUMMARY:Arms Export Control Act of 1976
DESCRIPTION:Arms Export Control Act\n\nTitle II of Pub.L. 94–329\, 90 Stat. 729\n codified at 22 U.S.C. ch. 39\n H.R. 13680 legislation was passed by the 94th Congressional session\nenacted into law by the 38th President of the United States Gerald R. Ford\non June 30\, 1976\nrequires international governments receiving weapons from the United States to use the armaments for legitimate self-defense\n places certain restrictions on American arms traders and manufacturers
URL:https://guncalendars.com/event/arms-export-control-act-of-1976-2/
CATEGORIES:Firearms Laws,Gun Control,Gun Industry
ATTACH;FMTTYPE=image/png:https://guncalendars.com/wp-content/uploads/2018/05/ViewImageLocal.png
END:VEVENT
END:VCALENDAR