BEGIN:VCALENDAR
VERSION:2.0
PRODID:-//Gun Calendars - ECPv6.6.2//NONSGML v1.0//EN
CALSCALE:GREGORIAN
METHOD:PUBLISH
X-ORIGINAL-URL:https://guncalendars.com
X-WR-CALDESC:Events for Gun Calendars
REFRESH-INTERVAL;VALUE=DURATION:PT1H
X-Robots-Tag:noindex
X-PUBLISHED-TTL:PT1H
BEGIN:VTIMEZONE
TZID:UTC
BEGIN:STANDARD
TZOFFSETFROM:+0000
TZOFFSETTO:+0000
TZNAME:UTC
DTSTART:20180101T000000
END:STANDARD
END:VTIMEZONE
BEGIN:VEVENT
DTSTART;VALUE=DATE:20181129
DTEND;VALUE=DATE:20181130
DTSTAMP:20260422T065355
CREATED:20180530T025409Z
LAST-MODIFIED:20180530T025409Z
UID:5554-1543449600-1543535999@guncalendars.com
SUMMARY:Gun-Free School Zones Act
DESCRIPTION:Gun-Free School Zones Act (GFSZA) \n\nNovember 29\, 1990\nintroduced by Senator Herb Kohl of Wisconsin\nsigned into law by President George H. W. Bush.\nact of the U.S. Congress prohibiting any unauthorized individual from knowingly possessing a loaded or unsecured firearm at a place that the individual knows\, or has reasonable cause to believe\, is a school zone\napplies to public\, private\, and parochialelementary schools and high schools\napplies to non-private property within 1000 feet of schools
URL:https://guncalendars.com/event/gun-free-school-zones-act/
CATEGORIES:Firearms Laws,Gun Control
END:VEVENT
END:VCALENDAR