BEGIN:VCALENDAR
VERSION:2.0
PRODID:-//Gun Calendars - ECPv6.6.2//NONSGML v1.0//EN
CALSCALE:GREGORIAN
METHOD:PUBLISH
X-WR-CALNAME:Gun Calendars
X-ORIGINAL-URL:https://guncalendars.com
X-WR-CALDESC:Events for Gun Calendars
REFRESH-INTERVAL;VALUE=DURATION:PT1H
X-Robots-Tag:noindex
X-PUBLISHED-TTL:PT1H
BEGIN:VTIMEZONE
TZID:UTC
BEGIN:STANDARD
TZOFFSETFROM:+0000
TZOFFSETTO:+0000
TZNAME:UTC
DTSTART:20190101T000000
END:STANDARD
END:VTIMEZONE
BEGIN:VEVENT
DTSTART;TZID=UTC:20190122T080000
DTEND;TZID=UTC:20190125T170000
DTSTAMP:20260421T214518
CREATED:20180619T055937Z
LAST-MODIFIED:20180619T055937Z
UID:6019-1548144000-1548435600@guncalendars.com
SUMMARY:SHOT Show 2019
DESCRIPTION:SHOT (Shooting\, Hunting\, Outdoor Trade) Show\nJanuary 22–25\, 2019\nVenue: Sands Expo\nAttendance: 61\,000\n1/22/19 at 8:00 AM –\n1/25/19 at 4:00 PM\nWhere – Sands Expo Center Map\nHost – National Shooting Sports Foundation\n\n1/22/19 at 9:00 AM – 1/25/19 at 4:00 PM\n\nhttp://gunchannels.com/event/205/shot-show-2019\nhttp://shotshow.org/\n\n  \n 
URL:https://guncalendars.com/event/shot-show-2019/
CATEGORIES:Firearms Media Event,Gun Control,Knife,Outdoor Industry
ATTACH;FMTTYPE=image/png:https://guncalendars.com/wp-content/uploads/2018/06/shotshow-logo-2x.png
END:VEVENT
END:VCALENDAR