BEGIN:VCALENDAR
VERSION:2.0
PRODID:-//Gun Calendars - ECPv6.6.2//NONSGML v1.0//EN
CALSCALE:GREGORIAN
METHOD:PUBLISH
X-ORIGINAL-URL:https://guncalendars.com
X-WR-CALDESC:Events for Gun Calendars
REFRESH-INTERVAL;VALUE=DURATION:PT1H
X-Robots-Tag:noindex
X-PUBLISHED-TTL:PT1H
BEGIN:VTIMEZONE
TZID:UTC
BEGIN:STANDARD
TZOFFSETFROM:+0000
TZOFFSETTO:+0000
TZNAME:UTC
DTSTART:20230101T000000
END:STANDARD
END:VTIMEZONE
BEGIN:VEVENT
DTSTART;VALUE=DATE:20230515
DTEND;VALUE=DATE:20230516
DTSTAMP:20260423T040758
CREATED:20180529T103555Z
LAST-MODIFIED:20220506T074638Z
UID:9560-1684108800-1684195199@guncalendars.com
SUMMARY:United States v Miller (1939)
DESCRIPTION:United States v MillerMay 15\, 1939 \nThe United States Supreme Court decided today\, in 1939\, that the 1934 National Firearms Act does not violate the 2nd Amendment \nSince then\, this decision has been used to validate most federal level gun control legislation \nDo your own research on the Miller decision.\nLearn\, then act. Those who forget history are doomed to repeat it \n#GunChannels\n#GunHistory #FirearmsLaws #LearnOurPast#MillerDecision #2ndAmendment \n\nhttps://www.instagram.com/p/BFcsX4gqhd_/?taken-by=gunwebsites \nun \n 
URL:https://guncalendars.com/event/united-states-v-miller-1939-4-3-3/
CATEGORIES:Firearms Laws
ATTACH;FMTTYPE=image/jpeg:https://guncalendars.com/wp-content/uploads/2017/08/IMG_20170515_043051_562.jpg
END:VEVENT
END:VCALENDAR