BEGIN:VCALENDAR
VERSION:2.0
PRODID:-//Gun Calendars - ECPv6.6.2//NONSGML v1.0//EN
CALSCALE:GREGORIAN
METHOD:PUBLISH
X-ORIGINAL-URL:https://guncalendars.com
X-WR-CALDESC:Events for Gun Calendars
REFRESH-INTERVAL;VALUE=DURATION:PT1H
X-Robots-Tag:noindex
X-PUBLISHED-TTL:PT1H
BEGIN:VTIMEZONE
TZID:UTC
BEGIN:STANDARD
TZOFFSETFROM:+0000
TZOFFSETTO:+0000
TZNAME:UTC
DTSTART:20220101T000000
END:STANDARD
END:VTIMEZONE
BEGIN:VEVENT
DTSTART;VALUE=DATE:20221017
DTEND;VALUE=DATE:20221018
DTSTAMP:20260423T200904
CREATED:20201002T092034Z
LAST-MODIFIED:20201002T092113Z
UID:8648-1665964800-1666051199@guncalendars.com
SUMMARY:Arkansas passes Constitutional Carry
DESCRIPTION:Arkansas passes Constitutional Carry \nOct 17\, 2018 \nArkansas was the 13th state to pass Constitutional Carry
URL:https://guncalendars.com/event/arkansas-passes-constitutional-carry-3/
CATEGORIES:Firearms Laws
ATTACH;FMTTYPE=image/png:https://guncalendars.com/wp-content/uploads/2020/10/State-Icons-Arkansas.png
END:VEVENT
END:VCALENDAR